BEGIN:VCALENDAR
VERSION:2.0
PRODID:-//ChamberMaster//Event Calendar 2.0//EN
METHOD:PUBLISH
X-PUBLISHED-TTL:P3D
REFRESH-INTERVAL:P3D
CALSCALE:GREGORIAN
BEGIN:VEVENT
DTSTART:20200110T003000Z
DTEND:20200110T023000Z
X-MICROSOFT-CDO-ALLDAYEVENT:FALSE
SUMMARY:Regional Business After Hours 2020
DESCRIPTION:Join the Berthoud\, Cheyenne\, Evans\, Greeley\, Laramie\, Longmont\, Loveland\, Mead\, Windsor\, Johnstown-Milliken\, Wellington and Fort Collins Chambers and their members at the Budweiser Events Center at The Ranch for the Regional Business After hours on Thursday January 9\, 2020!\n\n\n\nDon't miss your chance to take a shot on net and win fantastic prizes such as glass seats for the Colorado Eagles\, tickets to 2020 events and concerts\, along with lots of other great prizes. The Ranch staff will be on site to help you explore the behind the scenes of the facility\, tell you about exciting business opportunities and even see the Eagles Locker Room.\n\n \nPre-Registration Cost is $15 for Chamber members and $20 at the door. Registration is available through the Fort Collins Chamber Website\, www.FortCollinsChamber.com. Please select your Chamber when registering.\n\nRegistration Direct link: https://fortcollinscococ.wliinc31.com/events/Regional-Business-After-Hours-Budweiser-Event-Center-at-the-Ranch-1541/details
X-ALT-DESC;FMTTYPE=text/html:Join the Berthoud\, Cheyenne\, Evans\, Greeley\, Laramie\, Longmont\, Loveland\, Mead\, Windsor\, Johnstown-Milliken\, Wellington and Fort Collins Chambers and their members at the Budweiser Events Center at The Ranch for the Regional Business After hours on Thursday January 9\, 2020!<br />\n<br />\nDon&#39\;t miss your chance to take a shot on net and win fantastic prizes such as glass seats for the Colorado Eagles\, tickets to 2020 events and concerts\, along with lots of other great prizes. The Ranch staff will be on site to help you explore the behind the scenes of the facility\, tell you about exciting business opportunities and even see the Eagles Locker Room.<br />\n&nbsp\;\n<p>Pre-Registration Cost is $15 for Chamber members and $20 at the door. Registration is available through the Fort Collins Chamber Website\, www.FortCollinsChamber.com. Please select your Chamber when registering.</p>\n\n<p>Registration Direct link:&nbsp\;<a href="https://fortcollinscococ.wliinc31.com/events/Regional-Business-After-Hours-Budweiser-Event-Center-at-the-Ranch-1541/details">https://fortcollinscococ.wliinc31.com/events/Regional-Business-After-Hours-Budweiser-Event-Center-at-the-Ranch-1541/details</a></p>\n
LOCATION:Budweiser Event Center 5290 Arena Circle\, Loveland
UID:e.3083.7357
SEQUENCE:3
DTSTAMP:20260425T201457Z
URL:https://members.longmontchamber.org/events/details/regional-business-after-hours-2020-7357
END:VEVENT

END:VCALENDAR
