BEGIN:VCALENDAR
VERSION:2.0
PRODID:-//ChamberMaster//Event Calendar 2.0//EN
METHOD:PUBLISH
X-PUBLISHED-TTL:P3D
REFRESH-INTERVAL:P3D
CALSCALE:GREGORIAN
BEGIN:VEVENT
DTSTART:20220114T003000Z
DTEND:20220114T023000Z
X-MICROSOFT-CDO-ALLDAYEVENT:FALSE
SUMMARY:Regional Business After Hours
DESCRIPTION:Join the Northern Colorado Chambers and their members at the Budweiser Events Center at The Ranch for the return of Business After Hours!  This is a large regional event with the Berthoud\, Evans\, Fort Collins\, Greeley\, Longmont\, Loveland\, Mead and Windsor Chambers attracts over 500 people.  Don't miss your chance to to a shot on net or see the Zamboni.  The events team will be on site to help you explore behind the scenes of the facility\, tell you about exciting business opportunities and see the Eagles Locker Room.  Food and Drinks provided.
X-ALT-DESC;FMTTYPE=text/html:Join the Northern Colorado Chambers and their members at the Budweiser Events Center at The Ranch for the return of Business After Hours!&nbsp\; This is a large regional event with the Berthoud\, Evans\, Fort Collins\, Greeley\, Longmont\, Loveland\, Mead and Windsor Chambers attracts over 500 people.&nbsp\; Don&#39\;t miss your chance to to a shot on net or see the Zamboni.&nbsp\; The events team will be on site to help you explore behind the scenes of the facility\, tell you about exciting business opportunities and see the Eagles Locker Room.&nbsp\; Food and Drinks provided.
LOCATION:Location Change: Former Location: Budweiser Event Center. New Location: The Ranch- FNBO North Exhibition Hall (Directly across from Budweiser Event Center).
UID:e.3083.8644
SEQUENCE:3
DTSTAMP:20260424T060835Z
URL:https://members.longmontchamber.org/events/details/regional-business-after-hours-8644
END:VEVENT

END:VCALENDAR
