BEGIN:VCALENDAR
VERSION:2.0
PRODID:-//ChamberMaster//Event Calendar 2.0//EN
METHOD:PUBLISH
X-PUBLISHED-TTL:P3D
REFRESH-INTERVAL:P3D
CALSCALE:GREGORIAN
BEGIN:VEVENT
DTSTART:20240112T003000Z
DTEND:20240112T023000Z
X-MICROSOFT-CDO-ALLDAYEVENT:FALSE
SUMMARY:Regional Business After Hours at the Blue Arena
DESCRIPTION:Join the Northern Colorado Chambers and their members at Blue Arena for the popular Regional Business After Hours!\n\n\n\nExplore the newly remodeled Blue Arena\, make a connection with a regional peer\, and enter to win prizes. Food and drinks will be provided!\n\n\n\nPlease register through the Fort Collins Chamber. Registration cost is $20\, when registering please select your Chamber.\n\n\n\nClick Here to Register
X-ALT-DESC;FMTTYPE=text/html:<p>Join the Northern Colorado Chambers and their members at Blue Arena for the popular Regional Business After Hours!<br />\n<br />\nExplore the newly remodeled Blue Arena\, make a connection with a regional peer\, and enter to win prizes. Food and drinks will be provided!<br />\n<br />\nPlease register through the Fort Collins Chamber. Registration cost is $20\, when registering please select your Chamber.<br />\n<br />\n<em style="box-sizing: border-box\; color: rgb(71\, 54\, 17)\; font-family: &quot\;Helvetica Neue&quot\;\, Helvetica\, Arial\, sans-serif\; font-size: 16px\; text-align: center\;"><span class="JsGRdQ" style="box-sizing: border-box\;"><span style="box-sizing: border-box\; text-decoration-line: underline\;"><a href="https://web.fortcollinschamber.com/events/Regional-Business-After-Hours-with-Blue-Arena-2971/details" rel="noopener" style="box-sizing: border-box\; background: 0px 0px\; text-decoration-line: none\; color: rgb(50\, 119\, 104)\; transition: all 0.4s ease 0s\;" target="_blank"><span style="box-sizing: border-box\; font-weight: 700\;">Click Here to Register</span></a></span></span></em></p>\n
LOCATION:
UID:e.3083.10002
SEQUENCE:3
DTSTAMP:20260422T170133Z
URL:https://members.longmontchamber.org/events/details/regional-business-after-hours-at-the-blue-arena-10002
END:VEVENT

END:VCALENDAR
