BEGIN:VCALENDAR
VERSION:2.0
PRODID:-//ChamberMaster//Event Calendar 2.0//EN
METHOD:PUBLISH
X-PUBLISHED-TTL:P3D
REFRESH-INTERVAL:P3D
CALSCALE:GREGORIAN
BEGIN:VEVENT
DTSTART:20250110T003000Z
DTEND:20250110T023000Z
X-MICROSOFT-CDO-ALLDAYEVENT:FALSE
SUMMARY:Regional Business After Hours | Blue Arena in Loveland
DESCRIPTION:Regional Business After Hours at Blue Arena\n\n5:30   7:30 p.m.\n\nThursday\, January 9th\n\nBlue Arena\n\n5290 Arena Cir. Loveland\, CO 80538\n\nQuick Link to Register\n\nBlue Arena is proud to host members from Northern Colorado Chambers for this regional business networking event  5:30   7:30 p.m.\, Thursday\, August 10 at Canvas Stadium.\n\nJoin the Northern Colorado Chambers and their members at the Blue Federal Credit Union Arena for the popular Regional Business After Hours!\n\nDon't miss the chance to expand your network and explore new business opportunities!\n\nThese events provide an excellent opportunity for professionals to connect and foster new business relationships. Explore the Blue FCU Arena\, make connections with your regional peers! Food and drinks will be provided!\n\nRegistration cost is $20. When registering please select your Chamber. All Chamber members and the community are invited to attend.
X-ALT-DESC;FMTTYPE=text/html:<p style="box-sizing: border-box\; line-height: 1.5\; margin: 10px 0px\; color: rgb(71\, 54\, 17)\; font-family: &quot\;Helvetica Neue&quot\;\, Helvetica\, Arial\, sans-serif\; font-size: 16px\; text-align: center\;"><span style="font-size:14px\;"><span style="font-family:verdana\;"><span style="box-sizing: border-box\; font-weight: 700\;"><em style="box-sizing: border-box\;">Regional Business After Hours at Blue Arena</em></span><br style="box-sizing: border-box\;" />\n<em style="box-sizing: border-box\;">5:30 &ndash\; 7:30 p.m.<br style="box-sizing: border-box\;" />\nThursday\, January 9th</em><br style="box-sizing: border-box\;" />\n<em style="box-sizing: border-box\;">Blue Arena</em><br style="box-sizing: border-box\;" />\n<em style="box-sizing: border-box\;">5290 Arena Cir. Loveland\, CO 80538</em><br style="box-sizing: border-box\;" />\n<span style="box-sizing: border-box\; text-decoration-line: underline\;"><span style="box-sizing: border-box\; font-weight: 700\;"><a href="https://fortcollinschamber.com/event/regional-business-after-hours-with-blue-arena/" rel="noopener" style="box-sizing: border-box\; background: 0px 0px\; text-decoration-line: none\; color: rgb(50\, 119\, 104)\; transition: all 0.4s ease 0s\;" target="_blank">Quick Link to Register</a></span></span></span></span></p>\n\n<p style="box-sizing: border-box\; line-height: 1.5\; margin: 10px 0px\; color: rgb(71\, 54\, 17)\; font-family: &quot\;Helvetica Neue&quot\;\, Helvetica\, Arial\, sans-serif\; font-size: 16px\;"><span style="font-size:14px\;"><span style="font-family:verdana\;"><b><u>Blue Arena</u></b> is&nbsp\;proud to host members from Northern Colorado Chambers for this regional business networking event&nbsp\; 5:30 &ndash\; 7:30 p.m.\, Thursday\, August 10 at Canvas Stadium.</span></span></p>\n\n<p style="box-sizing: border-box\; margin-top: 0px\; margin-right: 0px\; margin-bottom: var(--tec-spacer-3)\; margin-left: 0px\; padding: 0px 0px 1em\; border: 0px\; outline: 0px\; font-size: var(--tec-font-size-4)\; text-size-adjust: 100%\; vertical-align: baseline\; background-image: initial\; background-position: initial\; background-size: initial\; background-repeat: initial\; background-attachment: initial\; background-origin: initial\; background-clip: initial\; line-height: var(--tec-line-height-2)\; color: rgb(20\, 24\, 39)\; font-family: &quot\;Red Hat Text&quot\;\, Helvetica\, Arial\, Lucida\, sans-serif\;"><span style="font-size:14px\;"><span style="font-family:verdana\;">Join the Northern Colorado Chambers and their members at the Blue Federal Credit Union Arena for the popular Regional Business After Hours!</span></span></p>\n\n<p style="box-sizing: border-box\; margin-top: 0px\; margin-right: 0px\; margin-bottom: var(--tec-spacer-3)\; margin-left: 0px\; padding: 0px 0px 1em\; border: 0px\; outline: 0px\; font-size: var(--tec-font-size-4)\; text-size-adjust: 100%\; vertical-align: baseline\; background-image: initial\; background-position: initial\; background-size: initial\; background-repeat: initial\; background-attachment: initial\; background-origin: initial\; background-clip: initial\; line-height: var(--tec-line-height-2)\; color: rgb(20\, 24\, 39)\; font-family: &quot\;Red Hat Text&quot\;\, Helvetica\, Arial\, Lucida\, sans-serif\;"><span style="font-size:14px\;"><span style="font-family:verdana\;"><span style="box-sizing: border-box\; margin: 0px\; padding: 0px\; border: 0px\; outline: 0px\; text-size-adjust: 100%\; vertical-align: baseline\; background: transparent\; font-weight: 700\;">Don&rsquo\;t miss the chance to expand your network and explore new business opportunities!</span></span></span></p>\n\n<p style="box-sizing: border-box\; margin-top: 0px\; margin-right: 0px\; margin-bottom: var(--tec-spacer-3)\; margin-left: 0px\; padding: 0px 0px 1em\; border: 0px\; outline: 0px\; font-size: var(--tec-font-size-4)\; text-size-adjust: 100%\; vertical-align: baseline\; background-image: initial\; background-position: initial\; background-size: initial\; background-repeat: initial\; background-attachment: initial\; background-origin: initial\; background-clip: initial\; line-height: var(--tec-line-height-2)\; color: rgb(20\, 24\, 39)\; font-family: &quot\;Red Hat Text&quot\;\, Helvetica\, Arial\, Lucida\, sans-serif\;"><span style="font-size:14px\;"><span style="font-family:verdana\;">These events provide an excellent opportunity for professionals to connect and foster new business relationships. Explore the Blue FCU Arena\, make connections with your regional peers! Food and drinks will be provided!</span></span></p>\n\n<p style="box-sizing: border-box\; margin-top: 0px\; margin-right: 0px\; margin-bottom: var(--tec-spacer-6)\; margin-left: 0px\; padding: 0px\; border: 0px\; outline: 0px\; font-size: var(--tec-font-size-4)\; text-size-adjust: 100%\; vertical-align: baseline\; background-image: initial\; background-position: initial\; background-size: initial\; background-repeat: initial\; background-attachment: initial\; background-origin: initial\; background-clip: initial\; line-height: var(--tec-line-height-2)\; color: rgb(20\, 24\, 39)\; font-family: &quot\;Red Hat Text&quot\;\, Helvetica\, Arial\, Lucida\, sans-serif\;"><span style="font-size:14px\;"><span style="font-family:verdana\;">Registration cost is $20. When registering please select your Chamber. All Chamber members and the community are invited to attend.</span></span></p>\n
LOCATION:Blue Arena in Loveland
UID:e.3083.10720
SEQUENCE:3
DTSTAMP:20260421T190506Z
URL:https://members.longmontchamber.org/events/details/regional-business-after-hours-blue-arena-in-loveland-10720
END:VEVENT

END:VCALENDAR
