BEGIN:VCALENDAR
VERSION:2.0
PRODID:-//ChamberMaster//Event Calendar 2.0//EN
METHOD:PUBLISH
X-PUBLISHED-TTL:P3D
REFRESH-INTERVAL:P3D
CALSCALE:GREGORIAN
BEGIN:VEVENT
DTSTART:20250814T230000Z
DTEND:20250815T010000Z
X-MICROSOFT-CDO-ALLDAYEVENT:FALSE
SUMMARY:Regional Business After Hours | Canvas Stadium at CSU
DESCRIPTION:Regional Business After Hours with Canvas Credit Union and Colorado State University\n\n5:00   7:00 p.m.\n\nThursday\, August 14\, 2025\n\nCanvas Stadium at Colorado State University\n\n751 W. Pitkin St.\, Fort Collins\, CO 80521\n\nQuick Link to Register\n\nCanvas Credit Union and Colorado State University are proud to host members from Northern Colorado for this regional business networking event  5:00   7:00 p.m.\, Thursday\, August 14 at Canvas Stadium.\n\nWe will continue the theme of community shared by the Northern Colorado Chambers of Commerce\, Canvas Credit Union and CSU and the collaborative efforts the community partners enjoy. All Chamber members\, Ram fans\, and the community are invited to attend.\n\nFood and drink will be served. Admission is $20/member and $30/non-member. Please select your Chamber when registering!\n\nWe look forward to seeing you there!
X-ALT-DESC;FMTTYPE=text/html:<p style="box-sizing: border-box\; line-height: 1.5\; margin: 10px 0px\; color: rgb(71\, 54\, 17)\; font-family: &quot\;Helvetica Neue&quot\;\, Helvetica\, Arial\, sans-serif\; font-size: 16px\; text-align: center\;"><span style="box-sizing: border-box\; font-weight: 700\;"><em style="box-sizing: border-box\;">Regional Business After Hours with Canvas Credit Union and Colorado State University</em></span><br style="box-sizing: border-box\;" />\n<em style="box-sizing: border-box\;">5:00&nbsp\;&ndash\; 7:00&nbsp\;p.m.<br style="box-sizing: border-box\;" />\nThursday\, August 14\, 2025</em><br style="box-sizing: border-box\;" />\n<em style="box-sizing: border-box\;">Canvas Stadium at&nbsp\;Colorado State University</em><br style="box-sizing: border-box\;" />\n<em style="box-sizing: border-box\;">751 W. Pitkin St.\, Fort Collins\, CO 80521</em><br style="box-sizing: border-box\;" />\n<span style="box-sizing: border-box\; text-decoration-line: underline\;"><span style="box-sizing: border-box\; font-weight: 700\;"><a href="https://fortcollinschamber.com/event/regional-business-after-hours-with-canvas-credit-union-and-colorado-state-university/" rel="noopener" style="box-sizing: border-box\; background: 0px 0px\; text-decoration-line: none\; color: rgb(50\, 119\, 104)\; transition: all 0.4s ease 0s\;" target="_blank">Quick Link to Register</a></span></span></p>\n\n<p style="box-sizing: border-box\; line-height: 1.5\; margin: 10px 0px\; color: rgb(71\, 54\, 17)\; font-family: &quot\;Helvetica Neue&quot\;\, Helvetica\, Arial\, sans-serif\; font-size: 16px\;"><span style="box-sizing: border-box\; text-decoration-line: underline\;"><span style="box-sizing: border-box\; font-weight: 700\;"><a href="https://www.canvas.org/" rel="noopener" style="box-sizing: border-box\; background: 0px 0px\; text-decoration-line: none\; color: rgb(50\, 119\, 104)\; transition: all 0.4s ease 0s\;" target="_blank">Canvas Credit Union</a></span></span>&nbsp\;and&nbsp\;<span style="box-sizing: border-box\; text-decoration-line: underline\;"><span style="box-sizing: border-box\; font-weight: 700\;"><a href="https://www.colostate.edu/" rel="noopener" style="box-sizing: border-box\; background: 0px 0px\; text-decoration-line: none\; color: rgb(50\, 119\, 104)\; transition: all 0.4s ease 0s\;" target="_blank">Colorado State University</a></span></span>&nbsp\;are proud to host members from Northern Colorado for this regional business networking event&nbsp\; 5:00&nbsp\;&ndash\; 7:00&nbsp\;p.m.\, Thursday\, August 14&nbsp\;at Canvas Stadium.</p>\n\n<p style="box-sizing: border-box\; line-height: 1.5\; margin: 10px 0px\; color: rgb(71\, 54\, 17)\; font-family: &quot\;Helvetica Neue&quot\;\, Helvetica\, Arial\, sans-serif\; font-size: 16px\;">We will continue the theme of community shared by the Northern Colorado Chambers of Commerce\, Canvas Credit Union and CSU and the collaborative efforts the community partners enjoy. All Chamber members\, Ram fans\, and the community are invited to attend.</p>\n\n<p style="box-sizing: border-box\; line-height: 1.5\; margin: 10px 0px\; color: rgb(71\, 54\, 17)\; font-family: &quot\;Helvetica Neue&quot\;\, Helvetica\, Arial\, sans-serif\; font-size: 16px\;">Food and drink will be served. Admission is $20/member and $30/non-member. Please select your Chamber when registering!</p>\n\n<p style="box-sizing: border-box\; line-height: 1.5\; margin: 10px 0px\; color: rgb(71\, 54\, 17)\; font-family: &quot\;Helvetica Neue&quot\;\, Helvetica\, Arial\, sans-serif\; font-size: 16px\;">We look forward to seeing you there!</p>\n
LOCATION:Canvas Stadium at CSU
UID:e.3083.13979
SEQUENCE:3
DTSTAMP:20260421T094107Z
URL:https://members.longmontchamber.org/events/details/regional-business-after-hours-canvas-stadium-at-csu-13979
END:VEVENT

END:VCALENDAR
