BEGIN:VCALENDAR
VERSION:2.0
PRODID:-//ChamberMaster//Event Calendar 2.0//EN
METHOD:PUBLISH
X-PUBLISHED-TTL:P3D
REFRESH-INTERVAL:P3D
CALSCALE:GREGORIAN
BEGIN:VEVENT
DTSTART:20230113T003000Z
DTEND:20230113T023000Z
X-MICROSOFT-CDO-ALLDAYEVENT:FALSE
SUMMARY:Regional Business After Hours with the Budweiser Events Center
DESCRIPTION:Join the Northern Colorado Chambers and their members at the Budweiser Events Center for the popular Regional Business After Hours! Explore the Budweiser Events Center\, make a connection with a regional peer\, and enter to win prizes. Food and drinks will be provided!\n\nPre-Register cost is $20. Admission price includes a voucher to attend the Colorado Eagles Game on January 18 (the following week). When registering\, please select your Chamber (Longmont Chamber).\n\nQuick Link to Register
X-ALT-DESC;FMTTYPE=text/html:<p>Join the Northern Colorado Chambers and their members at the Budweiser Events Center for the popular Regional Business After Hours! Explore the Budweiser Events Center\, make a connection with a regional peer\, and enter to win prizes. Food and drinks will be provided!</p>\n\n<p>Pre-Register cost is $20. Admission price includes a voucher to attend the Colorado Eagles Game on January 18 (the following week). When registering\, please select your Chamber (Longmont Chamber).</p>\n\n<p><strong><a href="https://web.fortcollinschamber.com/events/Regional-Business-After-Hours-with-Budweiser-Event-Center-2870/details" rel="noopener noreferrer" target="_blank">Quick Link to Register</a></strong></p>\n\n<p>&nbsp\;</p>\n
LOCATION:Budweiser Event Center 5290 Arena Circle Loveland\, CO 80538
UID:e.3083.9268
SEQUENCE:3
DTSTAMP:20260423T102806Z
URL:https://members.longmontchamber.org/events/details/regional-business-after-hours-with-the-budweiser-events-center-9268
END:VEVENT

END:VCALENDAR
