BEGIN:VCALENDAR
VERSION:2.0
PRODID:-//ChamberMaster//Event Calendar 2.0//EN
METHOD:PUBLISH
X-PUBLISHED-TTL:P3D
REFRESH-INTERVAL:P3D
CALSCALE:GREGORIAN
BEGIN:VEVENT
DTSTART;VALUE=DATE:20250908
DTEND;VALUE=DATE:20250913
TRANSP:TRANSPARENT
X-MICROSOFT-CDO-ALLDAYEVENT:TRUE
SUMMARY:Register for Chili Cook-Off | The Inn Between
DESCRIPTION:TURN UP THE HEAT ON HOMELESSNESS!\n\n\n\nBy entering the Chili Cook-Off\, you're helping raise funds that support The Inn Between's mission of providing affordable housing and stability for local families and individuals in the St. Vrain Valley.\n\n\n\nChili Chef Details\n\n\n\nEvent Date & Time:\n\nSaturday\, September 13th\, from 1-4 PM\n\n	Bring 8 10 quarts of chili\n	Arrive between 12:15 1:00 PM with chili in a crockpot already heated (drop off is at the loading dock follow signage\, attendants will assist)\n	Chili will be transferred into chafing pans and assigned an anonymous number\n	Do NOT bring toppings (sour cream\, cheese\, onions\, etc.)\n	Label your crockpot with your name for pickup after the event\n\nCompetition & Judging:\n\n\n	Tasting/Judging begins at 1:30 PM and ends around 3:15 PM\n	Winners announced between 3:45 4:00 PM\n\nExtras for You:\n\n\n	Your chili entry includes one pint of Bootstrap beer (ticket provided at check-in)\n	Prizes awarded for the top three chilies in each category (Red & Green): \n	\n		1st Place: $250\n		2nd Place: $100\n	\n	\n\n\n\nQuestions?\n\nEmail aly@innbetween.org\n\nor call 303-684-0810
X-ALT-DESC;FMTTYPE=text/html:<br />\n<span data-olk-copy-source="MessageBody" style="word-break: break-word\;"><span style="font-size:20px\;"><em><strong><span style="font-family:verdana\;">TURN UP THE HEAT ON HOMELESSNESS!</span></strong></em></span><br />\n<br />\nBy entering the Chili Cook-Off\, you&rsquo\;re helping raise funds that support The Inn Between&rsquo\;s mission of providing affordable housing and stability for local families and individuals in the St. Vrain Valley.</span><br />\n<br />\n<strong><span style="font-family:aptos\,sans-serif\;"><span style="font-size:12.0pt\;">Chili Chef Details<br />\n<br />\nEvent Date &amp\; Time:</span></span><br />\nSaturday\, September 13th\, from 1-4 PM</strong>\n<ul>\n	<li>Bring&nbsp\;8&ndash\;10 quarts&nbsp\;of chili</li>\n	<li>Arrive between&nbsp\;12:15&ndash\;1:00 PM&nbsp\;with chili in a crockpot already heated (drop off is at the&nbsp\;loading dock&mdash\;follow signage\, attendants will assist)</li>\n	<li>Chili will be transferred into chafing pans and assigned an anonymous number</li>\n	<li>Do&nbsp\;NOT&nbsp\;bring toppings (sour cream\, cheese\, onions\, etc.)</li>\n	<li>Label your crockpot with your name for pickup after the event</li>\n</ul>\n<strong>Competition &amp\; Judging:</strong>\n\n<ul>\n	<li>Tasting/Judging begins at 1:30 PM and ends around 3:15 PM</li>\n	<li>Winners announced between 3:45&ndash\;4:00 PM</li>\n</ul>\n<strong>Extras for You:</strong>\n\n<ul>\n	<li>Your chili entry includes one pint of Bootstrap beer&nbsp\;(ticket provided at check-in)</li>\n	<li>Prizes awarded for the top three chilies in each category (Red &amp\; Green):&nbsp\;\n	<ul>\n		<li>1st Place: $250</li>\n		<li>2nd Place: $100</li>\n	</ul>\n	</li>\n</ul>\n<br />\nQuestions?<br />\nEmail <a href="mailto:aly@innbetween.org">aly@innbetween.org</a><br />\nor call 303-684-0810
LOCATION:Bootstrap Brewery
UID:e.3083.14248
SEQUENCE:3
DTSTAMP:20260421T064106Z
URL:https://members.longmontchamber.org/events/details/register-for-chili-cook-off-the-inn-between-14248
END:VEVENT

END:VCALENDAR
