BEGIN:VCALENDAR
VERSION:2.0
PRODID:-//ChamberMaster//Event Calendar 2.0//EN
METHOD:PUBLISH
X-PUBLISHED-TTL:P3D
REFRESH-INTERVAL:P3D
CALSCALE:GREGORIAN
BEGIN:VEVENT
DTSTART:20231011T170000Z
DTEND:20231011T183000Z
X-MICROSOFT-CDO-ALLDAYEVENT:FALSE
SUMMARY:Respiratory Protection Basics
DESCRIPTION:Are you aware that OSHA's Respiratory Protection standards are the third most frequently cited violation by OSHA? Is your line of work susceptible to airborne respirable contaminants? To ensure employee safety\, OSHA mandates employers to implement a written respiratory protection program. In our affordable one-hour course\, we'll cover the OSHA respiratory protection standards\, how to create a program\, permissible exposure limits\, medical evaluation requirements for respirator use\, fit testing procedures\, and employee voluntary use of respirators.  This training will be held on Oct 11 from 11 a.m. - 12:30 p.m. at Pinnacol Assurance. Pricing for this training is $25 for policyholders per person and $35 for non-policyholders per person.
X-ALT-DESC;FMTTYPE=text/html:<span style="color:rgba(0\, 0\, 0\, 0.8)\; font-family:roboto\,sans-serif\; font-size:18px">Are you aware that OSHA&#39\;s Respiratory Protection standards are the third most frequently cited violation by OSHA? Is your line of work susceptible to airborne respirable contaminants? To ensure employee safety\, OSHA mandates employers to implement a written respiratory protection program. In our affordable one-hour course\, we&#39\;ll cover the OSHA respiratory protection standards\, how to create a program\, permissible exposure limits\, medical evaluation requirements for respirator use\, fit testing procedures\, and employee voluntary use of respirators. &nbsp\;This training will be held on Oct 11 from 11 a.m. - 12:30 p.m. at Pinnacol Assurance. Pricing for this training is $25 for policyholders per person and $35 for non-policyholders per person.</span>
LOCATION:Pinnacol Assurance 7501 E Lowry Blvd\, Denver\, CO 80230
UID:e.3083.9961
SEQUENCE:3
DTSTAMP:20260422T213012Z
URL:https://members.longmontchamber.org/events/details/respiratory-protection-basics-9961
END:VEVENT

END:VCALENDAR
