BEGIN:VCALENDAR
VERSION:2.0
PRODID:-//ChamberMaster//Event Calendar 2.0//EN
METHOD:PUBLISH
X-PUBLISHED-TTL:P3D
REFRESH-INTERVAL:P3D
CALSCALE:GREGORIAN
BEGIN:VEVENT
DTSTART:20200416T233000Z
DTEND:20200417T003000Z
X-MICROSOFT-CDO-ALLDAYEVENT:FALSE
SUMMARY:Retire Wiser Webinar
DESCRIPTION:Protect Your Money From COVID-19 Market Volatility    Join Frank Oliver and learn the 3 retirement actions Colorado residents need to take during COVID-19.\n\n\n	Discover the top risk to your retirement plan during the COVID-19 market correction.\n	Determine if your 401k is more vulnerable than you think to a highly volatile bear market.\n	Learn three concrete actions you can take now to protect yourself from continued market volatility.\n\nRegister for the Webinar: https://events.retire-wiser.com/webinar-longmont-4-16/
X-ALT-DESC;FMTTYPE=text/html:<p><strong>Protect Your Money From COVID-19 Market Volatility&nbsp\;</strong>&nbsp\;&ndash\; Join Frank Oliver and learn the 3 retirement actions Colorado residents need to take during COVID-19.</p>\n\n<ul>\n	<li>Discover the top risk to your retirement plan during the COVID-19 market correction.</li>\n	<li>Determine if your 401k is more vulnerable than you think to a highly volatile bear market.</li>\n	<li>Learn three concrete actions you can take now to protect yourself from continued market volatility.</li>\n</ul>\nRegister for the Webinar:&nbsp\;<a href="https://events.retire-wiser.com/webinar-longmont-4-16/">https://events.retire-wiser.com/webinar-longmont-4-16/</a>
LOCATION:
UID:e.3083.7577
SEQUENCE:3
DTSTAMP:20260425T152702Z
URL:https://members.longmontchamber.org/events/details/retire-wiser-webinar-04-16-2020-7577
END:VEVENT

END:VCALENDAR
