BEGIN:VCALENDAR
VERSION:2.0
PRODID:-//ChamberMaster//Event Calendar 2.0//EN
METHOD:PUBLISH
X-PUBLISHED-TTL:P3D
REFRESH-INTERVAL:P3D
CALSCALE:GREGORIAN
BEGIN:VEVENT
DTSTART:20210517T190000Z
DTEND:20210517T200000Z
X-MICROSOFT-CDO-ALLDAYEVENT:FALSE
SUMMARY:Returning to the Office After COVID-19
DESCRIPTION:Many businesses quickly pivoted to work from home in response to COVID-19. Critical businesses continued to have employees working in the office and in the community\, but with safety precautions. Now\, as vaccines become available and more people are vaccinated\, some employers are considering returning to the office. This session will discuss what steps employers should take to ease employees' return to the office. Employers must remain vigilant about safety and stay on top of public health requirements and guidance as they adapt to the "new normal" workplace.\n\nPresented by Tina Harkness\, Director of the Employers Council Northern Regional Office
X-ALT-DESC;FMTTYPE=text/html:<p>Many businesses quickly pivoted to work from home in response to COVID-19. Critical businesses continued to have employees working in the office and in the community\, but with safety precautions. Now\, as vaccines become available and more people are vaccinated\, some employers are considering returning to the office. This session will discuss what steps employers should take to ease employees&rsquo\; return to the office. Employers must remain vigilant about safety and stay on top of public health requirements and guidance as they adapt to the &ldquo\;new normal&rdquo\; workplace.</p>\n\n<p>Presented by Tina Harkness\, Director of the Employers Council Northern Regional Office</p>\n
LOCATION:Virtual. Zoom login information will be sent with registration confirmation.
UID:e.3083.8454
SEQUENCE:3
DTSTAMP:20260424T170713Z
URL:https://members.longmontchamber.org/events/details/returning-to-the-office-after-covid-19-8454
END:VEVENT

END:VCALENDAR
