BEGIN:VCALENDAR
VERSION:2.0
PRODID:-//ChamberMaster//Event Calendar 2.0//EN
METHOD:PUBLISH
X-PUBLISHED-TTL:P3D
REFRESH-INTERVAL:P3D
CALSCALE:GREGORIAN
BEGIN:VEVENT
DTSTART:20191212T230000Z
DTEND:20191213T000000Z
X-MICROSOFT-CDO-ALLDAYEVENT:FALSE
SUMMARY:Ribbon Cutting: 300 Suns Brewing
DESCRIPTION:Join us at a Ribbon Cutting for 300 Suns Brewing to celebrate their new expansion and partnership with Scratch Kitchen!\n\n\n\n300 Suns Brewing is a local craft brewery in Downtown Longmont. They have a tasting room\, a great deck and a new expansion and kitchen.
X-ALT-DESC;FMTTYPE=text/html:<p>Join us at a Ribbon Cutting for 300 Suns Brewing to celebrate their new expansion and partnership with Scratch Kitchen!<br />\n<br />\n300 Suns Brewing is a local craft brewery in Downtown Longmont. They have a tasting room\, a great deck and a new expansion and kitchen.</p>\n
LOCATION:300 Suns Brewing 335 1st Ave.\, Unit C Longmont\, CO 80501
UID:e.3083.7325
SEQUENCE:3
DTSTAMP:20260425T214025Z
URL:https://members.longmontchamber.org/events/details/ribbon-cutting-300-suns-brewing-7325
END:VEVENT

END:VCALENDAR
