BEGIN:VCALENDAR
VERSION:2.0
PRODID:-//ChamberMaster//Event Calendar 2.0//EN
METHOD:PUBLISH
X-PUBLISHED-TTL:P3D
REFRESH-INTERVAL:P3D
CALSCALE:GREGORIAN
BEGIN:VEVENT
DTSTART:20240518T180000Z
DTEND:20240518T190000Z
X-MICROSOFT-CDO-ALLDAYEVENT:FALSE
SUMMARY:Ribbon Cutting | 3rd Shot Pickleball
DESCRIPTION:Join us in celebrating 3rd Shot Pickleball!\n\n\n\nAbout 3rd Shot Pickleball:\n\n\n\nOur Goal is to offer the very best indoor pickleball playing experience in Colorado for every skill level and age!\n\n\n\n  Premium outdoor court surfaces\n\n  Excellent sound control\n\n  25ft ceilings (10ft court netting coming soon)\n\n  Fully stocked pro shop \n\n  Certified teaching pros for lessons and drills\n\n  Ball machine\n\n  Bar + food\n\n\nDELICIOUS FOOD ON-SITE\n\n\n\n\nIn a tasty partnership with Oskar Blues Fooderies'\, we have a full menu and kitchen on-site with craft casual bites from CHUBurger!\n\n\n\nPRO SHOP & GEAR\n\n\n\nOur pro shop is curated by real pickleballers! So\, if you're buying your first paddle or just adding to your collection\, we're sure we can help. Take a look next time you're in!\n\n3rd Shot Club Members also get a discount on all proshop purchases!\n\nWhether you're grabbing a bite to eat after your game or catering a private event with us\, you can stay out of the kitchen!
X-ALT-DESC;FMTTYPE=text/html:<span style="font-size:16px\;">Join us in celebrating 3rd Shot Pickleball!</span><br />\n<br />\n<span style="font-size:14px\;">About 3rd Shot Pickleball:</span><br />\n<br />\nOur Goal is to offer the very best indoor pickleball playing experience in Colorado for every skill level and age!<br />\n<br />\n&#10003\; Premium outdoor court surfaces<br />\n&#10003\; Excellent sound control<br />\n&#10003\; 25ft ceilings (10ft court netting coming soon)<br />\n&#10003\; Fully stocked pro shop&nbsp\;<br />\n&#10003\; Certified teaching pros for lessons and drills<br />\n&#10003\; Ball machine<br />\n&#10003\; Bar + food\n<div color:="" font-feature-settings:="" font-kerning:="" font-optical-sizing:="" font-variation-settings:="" helvetica="" margin:="" padding:="" segoe="" ui="" vertical-align:="" web="" west="">\n<div data-sid="welcome_2">\n<div><span style="font-size:16px\;">DELICIOUS FOOD ON-SITE</span></div>\n</div>\n\n<div animation-fill-mode:="" border-radius:="" box-sizing:="" color:="" data-sid="welcome_3" font-feature-settings:="" font-kerning:="" font-optical-sizing:="" font-variation-settings:="" height:="" left:="" margin:="" new="" opacity:="" outline:="" overflow:="" padding:="" pointer-events:="" position:="" times="" top:="" transform-origin:="" transform:="" vertical-align:="" width:="">\n<div data-sid="chuburger_7">\n<h1 background:="" font-feature-settings:="" font-kerning:="" font-optical-sizing:="" font-variation-settings:="" height:="" josefin="" left:="" letter-spacing:="" margin:="" padding:="" position:="" text-align:="" top:="" vertical-align:="" width:=""><span style="font-size:14px\;">In a tasty partnership with Oskar Blues Fooderies&#39\;\, we have a full menu and kitchen on-site with craft casual bites from CHUBurger!</span></h1>\n</div>\n\n<div data-sid="chuburger_9">\n<h1><span style="font-size:16px\;">PRO SHOP &amp\; GEAR</span></h1>\n</div>\n\n<div data-sid="chuburger_10">\n<h1 background:="" font-feature-settings:="" font-kerning:="" font-optical-sizing:="" font-variation-settings:="" height:="" josefin="" left:="" letter-spacing:="" margin:="" padding:="" position:="" text-align:="" top:="" vertical-align:="" width:=""><span style="font-size:14px\;">Our pro shop is curated by real pickleballers! So\, if you&#39\;re buying your first paddle or just adding to your collection\, we&#39\;re sure we can help. Take a look next time you&#39\;re in!<br />\n3rd Shot Club Members also get a discount on all proshop purchases!<br />\nWhether you&#39\;re grabbing a bite to eat after your game or catering a private event with us\, you can stay out of the kitchen!</span></h1>\n</div>\n\n<div>&nbsp\;</div>\n</div>\n\n<div class="str-im str-id strd" color:="" data-tr="fadeIn" data-tran="welcome_4" font-feature-settings:="" font-kerning:="" font-optical-sizing:="" font-variation-settings:="" margin:="" new="" padding:="" style="border: 0px\; font-variant-numeric: inherit\; font-variant-east-asian: inherit\; font-variant-alternates: inherit\; font-variant-position: inherit\; font-stretch: inherit\; font-size: medium\; line-height: inherit\; font-family: " times="" vertical-align:="">\n<div class="sie-welcome_4 se se-bd" data-sid="welcome_4" style="border: 0px\; font: inherit\; margin: 0px\; padding: 0px\; vertical-align: baseline\; animation-fill-mode: both\; box-sizing: border-box\; outline: none\; pointer-events: auto\; transform-origin: 50% 50%\; position: absolute\; overflow: hidden\; left: 677px\; top: 275px\; width: 397px\; height: 219px\; opacity: 1\; border-radius: 10px\; transform: scale(1\, 1) translate(0px\, 0px)\;">\n<div class="se-t sie-welcome_4-text st-m-paragraph st-d-paragraph se-rc" style="border: 0px\; font-variant: inherit\; font-stretch: inherit\; font-size: 16px\; line-height: 2\; font-family: Georgia\; font-optical-sizing: inherit\; font-kerning: inherit\; font-feature-settings: inherit\; font-variation-settings: inherit\; margin: 0px\; padding: 0px\; vertical-align: baseline\; position: absolute\; background: transparent\; height: 219px\; left: 0px\; top: 0px\; width: 397px\; color: rgb(255\, 255\, 255)\; letter-spacing: 0.05em\; text-align: justify\; overflow: hidden\;">&nbsp\;</div>\n</div>\n</div>\n</div>\n
LOCATION:
UID:e.3083.10093
SEQUENCE:3
DTSTAMP:20260422T090705Z
URL:https://members.longmontchamber.org/events/details/ribbon-cutting-3rd-shot-pickleball-10093
END:VEVENT

END:VCALENDAR
