BEGIN:VCALENDAR
VERSION:2.0
PRODID:-//ChamberMaster//Event Calendar 2.0//EN
METHOD:PUBLISH
X-PUBLISHED-TTL:P3D
REFRESH-INTERVAL:P3D
CALSCALE:GREGORIAN
BEGIN:VEVENT
DTSTART:20211028T220000Z
DTEND:20211028T230000Z
X-MICROSOFT-CDO-ALLDAYEVENT:FALSE
SUMMARY:Ribbon Cutting | Airborne Gymnastics
DESCRIPTION:Join us as we welcome the new owners of Airborne Gymnastics to the business community!\n\n\n\nAbout Airborne Gymnastics\n\nAt Airborne Gymnastics we offer beginner through advanced recreational and competitive gymnastics opportunities for children of all ages and abilities. Airborne Gymnastics offers fun activities for kids and opportunities to enhance kids' health\, such as classes in gymnastics\, NinjaZone\, Trampoline & Tumbling\, and a variety of dance styles. Not only does Airborne offer a variety of skilled-based non-competitive gymnastics classes for kids\, we also support a variety of competitive programs and performance groups.  Contact Airborne Gymnastics at (303) 684-3716 to get your child involved today!\n\n\n\nPer the Boulder County Health Order issued September 3rd\, we are requiring that all individuals wear a mask at this event.
X-ALT-DESC;FMTTYPE=text/html:Join us as we welcome the new owners of Airborne Gymnastics to the business community!<br />\n<br />\n<strong>About Airborne Gymnastics</strong><br />\nAt Airborne Gymnastics we offer beginner through advanced recreational and competitive gymnastics opportunities for children of all ages and abilities. Airborne Gymnastics offers fun activities for kids and opportunities to enhance kids&rsquo\; health\, such as classes in&nbsp\;<a href="https://airbornegym.com/airborne-gymnastics-longmont-co">gymnastics</a>\,&nbsp\;<a href="https://airbornegym.com/home/ninja-zone-2">NinjaZone</a>\,&nbsp\;<a href="https://airbornegym.com/gymnastics-teams">Trampoline &amp\; Tumbling</a>\, and a variety of&nbsp\;<a href="http://airbornedance.com/">dance styles</a>. Not only does Airborne offer a variety of skilled-based non-competitive gymnastics classes for kids\, we also support a variety of competitive programs and performance groups.&nbsp\; Contact Airborne Gymnastics at (303) 684-3716 to get your child involved today!<br />\n<br />\n<strong>Per the Boulder County Health Order issued September 3rd\, we are requiring that all individuals wear a mask at this event.</strong>
LOCATION:Airborne Gymnastics 1816 Boston Ave Longmont CO 80501
UID:e.3083.8614
SEQUENCE:3
DTSTAMP:20260424T105356Z
URL:https://members.longmontchamber.org/events/details/ribbon-cutting-airborne-gymnastics-8614
END:VEVENT

END:VCALENDAR
