BEGIN:VCALENDAR
VERSION:2.0
PRODID:-//ChamberMaster//Event Calendar 2.0//EN
METHOD:PUBLISH
X-PUBLISHED-TTL:P3D
REFRESH-INTERVAL:P3D
CALSCALE:GREGORIAN
BEGIN:VEVENT
DTSTART:20230126T230000Z
DTEND:20230127T000000Z
X-MICROSOFT-CDO-ALLDAYEVENT:FALSE
SUMMARY:Ribbon Cutting | Althaus Law
DESCRIPTION:Join us in welcoming new member Althaus Law to the Longmont Chamber community!\n\n\n\nAbout Althaus Law\n\nAt Althaus Law\, it's our mission to protect the legacy and financial futures of families in Colorado. At the heart of our practice are our core principles of honesty\, charity\, making work fun\, caring for each other\, and being a resource for our clients. These values guide our interactions with clients and each other\, providing both the people we help and the people we work with a safe\, positive\, and knowledgeable environment to discuss the intricacies of our practice areas and the specifics of our client's situations.
X-ALT-DESC;FMTTYPE=text/html:Join us in welcoming new member Althaus Law to the Longmont Chamber community!<br />\n<br />\n<strong>About Althaus Law</strong><br />\nAt Althaus Law\, it&rsquo\;s our mission to protect the legacy and financial futures of families in Colorado. At the heart of our practice are our core principles of honesty\, charity\, making work fun\, caring for each other\, and being a resource for our clients. These values guide our interactions with clients and each other\, providing both the people we help and the people we work with a safe\, positive\, and knowledgeable environment to discuss the intricacies of our practice areas and the specifics of our client&rsquo\;s situations.&nbsp\;&nbsp\;
LOCATION:
UID:e.3083.9265
SEQUENCE:3
DTSTAMP:20260423T102355Z
URL:https://members.longmontchamber.org/events/details/ribbon-cutting-althaus-law-9265
END:VEVENT

END:VCALENDAR
