BEGIN:VCALENDAR
VERSION:2.0
PRODID:-//ChamberMaster//Event Calendar 2.0//EN
METHOD:PUBLISH
X-PUBLISHED-TTL:P3D
REFRESH-INTERVAL:P3D
CALSCALE:GREGORIAN
BEGIN:VEVENT
DTSTART:20240404T220000Z
DTEND:20240404T230000Z
X-MICROSOFT-CDO-ALLDAYEVENT:FALSE
SUMMARY:Ribbon Cutting | Anahata Massage
DESCRIPTION:Join us April 4th at 4:00 PM for a ribbon-cutting to celebrate the 4th anniversary at Anahata Massage! Come celebrate with us and meet our fabulous team of holistic practitioners\, enjoy a free salt therapy session and stay for an informational presentation to learn about the benefits of Five Element Chinese Acupuncture! \n\n\n\nAbout Anahata\n\nANAHATA: Heart Centered Holistic Healthcare\n\nWhere holistic healthcare is preventative medicine!\n\nBodywork services include therapeutic deep tissue\, rest and restore relaxation massage\, lymphatic drainage\, craniosacral\, hot rocks\, teen treatments and pregnancy massage.\n\n\n\nAlso offering intuitive bodywork sessions\, Marconics Ascension energy sessions and Reiki\n\nPlus\, our one-of-a-kind salt therapy room made entirely of Himalayan salt bricks!\n\nAnahata collaborates with a team of holistic healthcare professionals to provide a truly holistic approach to your wellness plan.  Offering bodywork\, energy work\, acupuncture and salt therapy.
X-ALT-DESC;FMTTYPE=text/html:<span style="color: rgb(36\, 36\, 36)\; font-family: &quot\;Segoe UI&quot\;\, &quot\;Segoe UI Web (West European)&quot\;\, &quot\;Segoe UI&quot\;\, -apple-system\, BlinkMacSystemFont\, Roboto\, &quot\;Helvetica Neue&quot\;\, sans-serif\; font-size: 15px\;">Join us April 4th at 4:00 PM for a ribbon-cutting to celebrate the 4th anniversary at Anahata Massage! Come celebrate with us and meet our fabulous team of holistic practitioners\, enjoy a free salt therapy session and stay for an informational presentation to learn about the benefits of Five Element Chinese Acupuncture!&nbsp\;</span><br />\n<br />\nAbout Anahata\n<div color:="" font-feature-settings:="" font-kerning:="" font-optical-sizing:="" font-variation-settings:="" helvetica="" margin:="" padding:="" segoe="" ui="" vertical-align:="" web="" west="">\n<h2>ANAHATA: Heart Centered Holistic Healthcare</h2>\n\n<h2>Where holistic healthcare is preventative medicine!</h2>\n\n<h3>Bodywork services include therapeutic deep tissue\, rest and restore relaxation massage\, lymphatic drainage\, craniosacral\, hot rocks\, teen treatments and pregnancy massage.<br />\n<br />\nAlso offering intuitive bodywork sessions\, Marconics Ascension&nbsp\;energy sessions and Reiki</h3>\n\n<h3>Plus\, our one-of-a-kind salt therapy room made entirely of Himalayan salt bricks!</h3>\n\n<h3 background-color:="" color:="" font-size:="" montserrat="" text-align:="">Anahata collaborates with a team of holistic healthcare professionals to provide a truly holistic approach to your wellness plan.&nbsp\; Offering bodywork\, energy work\, acupuncture and salt therapy.</h3>\n\n<h3 background-color:="" color:="" font-size:="" montserrat="" text-align:=""><br />\n&nbsp\;</h3>\n</div>\n\n<div>&nbsp\;</div>\n
LOCATION:
UID:e.3083.10053
SEQUENCE:3
DTSTAMP:20260422T115827Z
URL:https://members.longmontchamber.org/events/details/ribbon-cutting-anahata-massage-10053
END:VEVENT

END:VCALENDAR
