BEGIN:VCALENDAR
VERSION:2.0
PRODID:-//ChamberMaster//Event Calendar 2.0//EN
METHOD:PUBLISH
X-PUBLISHED-TTL:P3D
REFRESH-INTERVAL:P3D
CALSCALE:GREGORIAN
BEGIN:VEVENT
DTSTART:20240423T220000Z
DTEND:20240423T230000Z
X-MICROSOFT-CDO-ALLDAYEVENT:FALSE
SUMMARY:Ribbon Cutting and Grand Opening | LaMariposa
DESCRIPTION:Join us in celebrating this Longmont Legacy Business for their Official Grand Opening!\n\n\n\nAbout La Mariposa\n\nJoin us in their brand-new Longmont space\, located in the old Beau Jo's space.  You can't miss it!  It is covered in beautiful\, colorful butterflies!  Spacious indoor space\, an outdoor dining room and a roof top patio!  There is no other building quite like this in Longmont\, and they have transformed it with all the bells and whistles. This mulit-generational business continues to thrive and grow in Colorado.  Come experience their new menu and extraordinary beverage choices!  This is a celebration you won't want to miss!
X-ALT-DESC;FMTTYPE=text/html:Join us in celebrating this Longmont Legacy Business for their Official Grand Opening!<br />\n<br />\n<strong>About La Mariposa</strong>\n<div color:="" font-feature-settings:="" font-kerning:="" font-optical-sizing:="" font-variation-settings:="" helvetica="" margin:="" padding:="" segoe="" ui="" vertical-align:="" web="" west="">\n<p>Join us in their brand-new Longmont space\, located in the old Beau Jo&#39\;s space.&nbsp\; You can&#39\;t miss it!&nbsp\; It is covered in beautiful\, colorful butterflies!&nbsp\; Spacious indoor space\, an outdoor dining room&nbsp\;and a roof top patio!&nbsp\; There is no other building quite like this in Longmont\, and they have transformed it with all the bells and whistles. This mulit-generational business continues to thrive and grow in Colorado.&nbsp\; Come experience their new menu and extraordinary beverage choices!&nbsp\; This is a celebration you won&#39\;t want to miss!</p>\n</div>\n
LOCATION:
UID:e.3083.10049
SEQUENCE:3
DTSTAMP:20260422T105218Z
URL:https://members.longmontchamber.org/events/details/ribbon-cutting-and-grand-opening-lamariposa-10049
END:VEVENT

END:VCALENDAR
