BEGIN:VCALENDAR
VERSION:2.0
PRODID:-//ChamberMaster//Event Calendar 2.0//EN
METHOD:PUBLISH
X-PUBLISHED-TTL:P3D
REFRESH-INTERVAL:P3D
CALSCALE:GREGORIAN
BEGIN:VEVENT
DTSTART:20240430T220000Z
DTEND:20240430T230000Z
X-MICROSOFT-CDO-ALLDAYEVENT:FALSE
SUMMARY:Ribbon Cutting and Grand Opening | Project One Roofing
DESCRIPTION:Join us in celebrating the Grand Opening of Project One Roofing!\n\nProject One Roofing: Where Quality Meets Durability\n\nProject One Roofing is Longmont's trusted source for roofing excellence\, offering both residential and commercial services with a commitment to quality and safety. Our team's professionalism and detailed approach ensure that starting a roofing project\, often perceived as daunting\, becomes a clear and informed journey. We prioritize transparency and honesty\, guiding you through every decision\, from selecting durable materials suited to Longmont's climate to understanding your project's timeline\, ensuring a seamless experience.\n\nMaking the decision to repair or upgrade your roof is a significant investment in your home's protection and value. At Project One Roofing\, we adopt a customer-focused approach\, providing you with the necessary facts and insights to make informed decisions. Our partnership is built on a foundation of trust and knowledge\, and we can't wait to work alongside you for years to come.
X-ALT-DESC;FMTTYPE=text/html:Join us in celebrating the Grand Opening of Project One Roofing!\n<div color:="" font-feature-settings:="" font-kerning:="" font-optical-sizing:="" font-variation-settings:="" helvetica="" margin:="" padding:="" segoe="" ui="" vertical-align:="" web="" west="">\n<p>Project One&reg\;Roofing: Where Quality Meets Durability<br font-size:="" helvetica="" segoe="" ui="" web="" west="" />\nProject One&reg\;Roofing is Longmont&rsquo\;s trusted source for roofing excellence\, offering both residential and commercial services with a commitment to quality and safety. Our team&rsquo\;s professionalism and detailed approach ensure that starting a roofing project\, often perceived as daunting\, becomes a clear and informed journey. We prioritize transparency and honesty\, guiding you through every decision\, from selecting durable materials suited to Longmont&rsquo\;s climate to understanding your project&rsquo\;s timeline\, ensuring a seamless experience.<br font-size:="" helvetica="" segoe="" ui="" web="" west="" />\nMaking the decision to repair or upgrade your roof is a significant investment in your home&rsquo\;s protection and value. At Project One Roofing\, we adopt a customer-focused approach\, providing you with the necessary facts and insights to make informed decisions. Our partnership is built on a foundation of trust and knowledge\, and we can&rsquo\;t wait to work alongside you for years to come.</p>\n</div>\n
LOCATION:
UID:e.3083.10075
SEQUENCE:3
DTSTAMP:20260422T105137Z
URL:https://members.longmontchamber.org/events/details/ribbon-cutting-and-grand-opening-project-one-roofing-10075
END:VEVENT

END:VCALENDAR
