BEGIN:VCALENDAR
VERSION:2.0
PRODID:-//ChamberMaster//Event Calendar 2.0//EN
METHOD:PUBLISH
X-PUBLISHED-TTL:P3D
REFRESH-INTERVAL:P3D
CALSCALE:GREGORIAN
BEGIN:VEVENT
DTSTART:20211202T230000Z
DTEND:20211203T000000Z
X-MICROSOFT-CDO-ALLDAYEVENT:FALSE
SUMMARY:Ribbon Cutting | Angles Sports
DESCRIPTION:Join us in welcoming Angles Sports to their new location on Main St! \n\n\n\nAbout Angles Sports\n\nWe are passionate about getting people into the outdoors with high-quality gear\, at affordable prices.  Here at Angles Sports\, we strive to provide gear and services to help get you playing outdoors\, exploring new places and going on new adventures.\n\n\n\nPer the Boulder County Health Order issued September 3rd\, we are requiring that all individuals wear a mask at this event.
X-ALT-DESC;FMTTYPE=text/html:Join us in welcoming Angles Sports to their new location on Main St!&nbsp\;<br />\n<br />\n<strong>About Angles Sports</strong><br />\nWe are passionate about getting people into the outdoors with high-quality gear\, at affordable prices.&nbsp\;&nbsp\;Here at Angles Sports\, we strive to provide gear and services to help get you playing outdoors\, exploring new places and going on new adventures.<br />\n<br />\n<strong>Per the Boulder County Health Order issued September 3rd\, we are requiring that all individuals wear a mask at this event.</strong>
LOCATION:Angles Sports 463 Main St Longmont\, CO 80501
UID:e.3083.8622
SEQUENCE:3
DTSTAMP:20260424T062734Z
URL:https://members.longmontchamber.org/events/details/ribbon-cutting-angles-sports-8622
END:VEVENT

END:VCALENDAR
