BEGIN:VCALENDAR
VERSION:2.0
PRODID:-//ChamberMaster//Event Calendar 2.0//EN
METHOD:PUBLISH
X-PUBLISHED-TTL:P3D
REFRESH-INTERVAL:P3D
CALSCALE:GREGORIAN
BEGIN:VEVENT
DTSTART:20250306T230000Z
DTEND:20250307T000000Z
X-MICROSOFT-CDO-ALLDAYEVENT:FALSE
SUMMARY:Ribbon Cutting | Annie And Millie's
DESCRIPTION:Join us in celebrating Annie & Millie's Place!\n\n\n\nAbout Annie & Millie's Place\n\nOur mission is to keep people experiencing homelessness together with their fur family by evolving pet-friendly solutions\, programs and resources. At this Ribbon Cutting\, we will not only introduce our organization\, but we will be staging our space as if it is the co-shelter we dream of\, where unhoused people and their pets can sleep safely and securely\, together.
X-ALT-DESC;FMTTYPE=text/html:Join us in celebrating Annie &amp\; Millie&#39\;s Place!<br />\n<br />\n<strong>About Annie &amp\; Millie&#39\;s Place</strong>\n<div color:="" font-feature-settings:="" font-kerning:="" font-optical-sizing:="" font-variation-settings:="" helvetica="" margin:="" padding:="" segoe="" ui="" vertical-align:="" web="" west="">\n<p><span style="color: rgb(29\, 31\, 37)\; font-family: -apple-system\, system-ui\, BlinkMacSystemFont\, &quot\;Segoe UI&quot\;\, Roboto\, Oxygen-Sans\, Ubuntu\, Cantarell\, &quot\;Helvetica Neue&quot\;\, sans-serif\, &quot\;Apple Color Emoji&quot\;\, &quot\;Segoe UI Emoji&quot\;\, &quot\;Segoe UI Symbol&quot\;\; white-space-collapse: preserve\;">Our mission is to keep people experiencing homelessness together with their fur family by evolving pet-friendly solutions\, programs and resources. At this Ribbon Cutting\, we will not only introduce our organization\, but we will be staging our space&nbsp\;</span><em style="box-sizing: border-box\; color: rgb(29\, 31\, 37)\; font-family: -apple-system\, system-ui\, BlinkMacSystemFont\, &quot\;Segoe UI&quot\;\, Roboto\, Oxygen-Sans\, Ubuntu\, Cantarell\, &quot\;Helvetica Neue&quot\;\, sans-serif\, &quot\;Apple Color Emoji&quot\;\, &quot\;Segoe UI Emoji&quot\;\, &quot\;Segoe UI Symbol&quot\;\; white-space-collapse: preserve\;">as if</em><span style="color: rgb(29\, 31\, 37)\; font-family: -apple-system\, system-ui\, BlinkMacSystemFont\, &quot\;Segoe UI&quot\;\, Roboto\, Oxygen-Sans\, Ubuntu\, Cantarell\, &quot\;Helvetica Neue&quot\;\, sans-serif\, &quot\;Apple Color Emoji&quot\;\, &quot\;Segoe UI Emoji&quot\;\, &quot\;Segoe UI Symbol&quot\;\; white-space-collapse: preserve\;">&nbsp\;it is the co-shelter we dream of\, where unhoused people and their pets can sleep safely and securely\,&nbsp\;</span><em style="box-sizing: border-box\; color: rgb(29\, 31\, 37)\; font-family: -apple-system\, system-ui\, BlinkMacSystemFont\, &quot\;Segoe UI&quot\;\, Roboto\, Oxygen-Sans\, Ubuntu\, Cantarell\, &quot\;Helvetica Neue&quot\;\, sans-serif\, &quot\;Apple Color Emoji&quot\;\, &quot\;Segoe UI Emoji&quot\;\, &quot\;Segoe UI Symbol&quot\;\; white-space-collapse: preserve\;">together.&nbsp\;</em></p>\n</div>\n
LOCATION:Future home of Recovery Cafe Longmont
UID:e.3083.10505
SEQUENCE:3
DTSTAMP:20260421T160419Z
URL:https://members.longmontchamber.org/events/details/ribbon-cutting-annie-and-millie-s-10505
END:VEVENT

END:VCALENDAR
