BEGIN:VCALENDAR
VERSION:2.0
PRODID:-//ChamberMaster//Event Calendar 2.0//EN
METHOD:PUBLISH
X-PUBLISHED-TTL:P3D
REFRESH-INTERVAL:P3D
CALSCALE:GREGORIAN
BEGIN:VEVENT
DTSTART:20200121T230000Z
DTEND:20200122T000000Z
X-MICROSOFT-CDO-ALLDAYEVENT:FALSE
SUMMARY:Ribbon Cutting: AT&T Harvest Junction
DESCRIPTION:Join us at a Ribbon Cutting to welcome AT&T Harvest Junction into the Chamber!\n\n\n\nPremium integrated products that are better together with more simplicity and value. The best choice for video\, internet and wireless   even more with unlimited plans and premium entertainment.\n\n\n\nRibbon Cuttings are a great way to celebrate our members\, network\, meet fellow Chamber Members and learn something about Longmont businesses.
X-ALT-DESC;FMTTYPE=text/html:<span style="font-size:14px\;"><span style="font-family:tahoma\;">Join us at a Ribbon Cutting to welcome AT&amp\;T Harvest Junction into the Chamber!<br />\n<br />\n<span style="color: rgb(81\, 83\, 81)\;">Premium integrated products that are better together with more simplicity and value. The best choice for video\, internet and wireless &ndash\; even more with unlimited plans and premium entertainment.</span><br />\n<br />\n<span style="color: rgb(0\, 0\, 0)\;">Ribbon Cuttings are a great way to celebrate our&nbsp\;members\, network\, meet fellow Chamber Members and learn something about Longmont businesses.</span></span></span>
LOCATION:180 Ken Pratt Blvd. B225 Longmont\, CO 80501
UID:e.3083.7362
SEQUENCE:3
DTSTAMP:20260425T201727Z
URL:https://members.longmontchamber.org/events/details/ribbon-cutting-at-t-harvest-junction-7362
END:VEVENT

END:VCALENDAR
