BEGIN:VCALENDAR
VERSION:2.0
PRODID:-//ChamberMaster//Event Calendar 2.0//EN
METHOD:PUBLISH
X-PUBLISHED-TTL:P3D
REFRESH-INTERVAL:P3D
CALSCALE:GREGORIAN
BEGIN:VEVENT
DTSTART:20241107T230000Z
DTEND:20241108T000000Z
X-MICROSOFT-CDO-ALLDAYEVENT:FALSE
SUMMARY:Ribbon Cutting | Axe Me Out
DESCRIPTION:Join us in celebrating Axe Me Out!\n\n\n\nAbout Axe Me Out\n\nAffordable entertainment for all ages\, including axes and more\, arcade games\, a rage room\, a bar\, and sports!\n\n\n\nAxe Me Out offers a safe and enjoyable environment where you can toss your worries away\, unleash your inner lumberjack\, and smash your stress away.\n\n\n\nIf leaving your house is not your thing we can bring the axe-ation to you with our mobile range.  The party goes where you want to go.
X-ALT-DESC;FMTTYPE=text/html:Join us in celebrating Axe Me Out!<br />\n<br />\n<strong>About Axe Me Out</strong>\n<div color:="" font-feature-settings:="" font-kerning:="" font-optical-sizing:="" font-variation-settings:="" helvetica="" margin:="" padding:="" segoe="" ui="" vertical-align:="" web="" west="">\n<p><!--StartFragment--><span data-olk-copy-source="MessageBody">Affordable entertainment for all ages\, including axes and more\, arcade games\, a rage room\, a bar\, and sports!<br />\n<br />\nAxe Me Out offers a safe and enjoyable environment where you can toss your worries away\, unleash your inner lumberjack\, and smash your stress away.<br />\n<br />\nIf leaving your house is not your thing we can bring the axe-ation to you with our mobile range.&nbsp\; The party goes where you want to go.</span></p>\n</div>\n
LOCATION:
UID:e.3083.10261
SEQUENCE:3
DTSTAMP:20260421T235445Z
URL:https://members.longmontchamber.org/events/details/ribbon-cutting-axe-me-out-10261
END:VEVENT

END:VCALENDAR
