BEGIN:VCALENDAR
VERSION:2.0
PRODID:-//ChamberMaster//Event Calendar 2.0//EN
METHOD:PUBLISH
X-PUBLISHED-TTL:P3D
REFRESH-INTERVAL:P3D
CALSCALE:GREGORIAN
BEGIN:VEVENT
DTSTART:20250903T140000Z
DTEND:20250903T150000Z
X-MICROSOFT-CDO-ALLDAYEVENT:FALSE
SUMMARY:Ribbon Cutting | Bakewell
DESCRIPTION:Join us in celebrating Bakewell!\n\n\n\nAbout Bakewell\n\nBakewell is a French pastry and coffee shop offering freshly baked goods\, artisan pastries\, and locally sourced coffee. We pride ourselves on using organic ingredients and creating an inviting atmosphere for our community. We also offer a selection of breakfast sandwiches made with the finest ingredients. In addition\, we feature a full espresso bar with house-made organic syrups\, adding a unique touch to our drinks.
X-ALT-DESC;FMTTYPE=text/html:Join us in celebrating Bakewell!<br />\n<br />\n<strong>About Bakewell</strong>\n<div color:="" font-feature-settings:="" font-kerning:="" font-optical-sizing:="" font-variation-settings:="" helvetica="" margin:="" padding:="" segoe="" ui="" vertical-align:="" web="" west="">\n<p><!--StartFragment--><span data-olk-copy-source="MessageBody" style="margin-top: 1em\; margin-bottom: 1em\;">Bakewell is a French pastry and coffee shop offering freshly baked goods\, artisan pastries\, and locally sourced coffee. We pride ourselves on using organic ingredients and creating an inviting atmosphere for our community. We also offer a selection of breakfast sandwiches made with the finest ingredients. In addition\, we feature a full espresso bar with house-made organic syrups\, adding a unique touch to our drinks.</span><!--EndFragment--></p>\n</div>\n
LOCATION:
UID:e.3083.14003
SEQUENCE:3
DTSTAMP:20260421T063915Z
URL:https://members.longmontchamber.org/events/details/ribbon-cutting-bakewell-14003
END:VEVENT

END:VCALENDAR
