BEGIN:VCALENDAR
VERSION:2.0
PRODID:-//ChamberMaster//Event Calendar 2.0//EN
METHOD:PUBLISH
X-PUBLISHED-TTL:P3D
REFRESH-INTERVAL:P3D
CALSCALE:GREGORIAN
BEGIN:VEVENT
DTSTART:20240912T220000Z
DTEND:20240912T230000Z
X-MICROSOFT-CDO-ALLDAYEVENT:FALSE
SUMMARY:Ribbon Cutting | Bank of Colorado
DESCRIPTION:Join us in celebrating Bank of Colorado!\n\n\n\nBank of Colorado is hosting their Annual Customer and Community Appreciation Day!\n\nBank of Colorado is a Dinsdale family-owned and managed bank serving customers at 46 locations across Colorado. We're proud to be part of Pinnacle Bancorp\, which operates 167 locations banks in eight states: Arizona\, Colorado\, Kansas\, Nebraska\, Missouri\, New Mexico\, Texas and Wyoming. We face the future with confidence\, knowing we have a firm foundation built on strong values.
X-ALT-DESC;FMTTYPE=text/html:Join us in celebrating Bank of Colorado!<br />\n<br />\n<strong>Bank of Colorado is hosting their Annual Customer and Community Appreciation Day!</strong><br />\nBank of Colorado is a Dinsdale family-owned and managed bank serving customers at 46 locations across Colorado. We&rsquo\;re proud to be part of Pinnacle Bancorp\, which operates 167 locations banks in eight states: Arizona\, Colorado\, Kansas\, Nebraska\, Missouri\, New Mexico\, Texas and Wyoming. We face the future with confidence\, knowing we have a firm foundation built on strong values.
LOCATION:
UID:e.3083.10184
SEQUENCE:3
DTSTAMP:20260422T013952Z
URL:https://members.longmontchamber.org/events/details/ribbon-cutting-bank-of-colorado-10184
END:VEVENT

END:VCALENDAR
