BEGIN:VCALENDAR
VERSION:2.0
PRODID:-//ChamberMaster//Event Calendar 2.0//EN
METHOD:PUBLISH
X-PUBLISHED-TTL:P3D
REFRESH-INTERVAL:P3D
CALSCALE:GREGORIAN
BEGIN:VEVENT
DTSTART:20240222T230000Z
DTEND:20240223T000000Z
X-MICROSOFT-CDO-ALLDAYEVENT:FALSE
SUMMARY:Ribbon Cutting | Barbie's Nails and Lashes Supply
DESCRIPTION:Join us in celebrating Barbie's Nail and Lashes Supply!\n\n\n\nAbout Barbie's Nail and Lashes Supply\n\nBarbie's is one of Longmont's newest businesses\, opening their doors in 2024!  The owners of Barbie's Nail and Lashes Supply are long-time business owners of multiple businesses and look forward to growing another successful business\, right in the heart of Longmont!
X-ALT-DESC;FMTTYPE=text/html:Join us in celebrating Barbie&#39\;s Nail and Lashes Supply!<br />\n<br />\n<strong>About Barbie&#39\;s Nail and Lashes Supply</strong>\n<div color:="" font-feature-settings:="" font-kerning:="" font-optical-sizing:="" font-variation-settings:="" helvetica="" margin:="" padding:="" segoe="" ui="" vertical-align:="" web="" west="">\n<p>Barbie&#39\;s is one of Longmont&#39\;s newest businesses\, opening their doors&nbsp\;in 2024!&nbsp\; The owners of Barbie&#39\;s Nail and Lashes Supply are long-time business owners of multiple businesses and look forward to growing another successful business\, right in the heart of Longmont!&nbsp\;&nbsp\;</p>\n</div>\n
LOCATION:943 Main Street Ste. C Longmont Colorado
UID:e.3083.10032
SEQUENCE:3
DTSTAMP:20260422T133241Z
URL:https://members.longmontchamber.org/events/details/ribbon-cutting-barbie-s-nails-and-lashes-supply-10032
END:VEVENT

END:VCALENDAR
