BEGIN:VCALENDAR
VERSION:2.0
PRODID:-//ChamberMaster//Event Calendar 2.0//EN
METHOD:PUBLISH
X-PUBLISHED-TTL:P3D
REFRESH-INTERVAL:P3D
CALSCALE:GREGORIAN
BEGIN:VEVENT
DTSTART:20240920T224500Z
DTEND:20240920T230000Z
X-MICROSOFT-CDO-ALLDAYEVENT:FALSE
SUMMARY:Ribbon Cutting | BAS1S Architecture 25 year Anniversary
DESCRIPTION:Join us in celebrating BAS1S Architecture and Design!\nBAS1S is an architectural design firm in our 25th year specializing in creating engaging and functional buildings with simple solutions. As a company\, we aspire to create buildings that inspire and improve both our built and natural environment.\n\n\n\nStay for the Chamber Seasonal Fall-iday Party\, from 5-7pm!
X-ALT-DESC;FMTTYPE=text/html:Join us in celebrating BAS1S Architecture and Design!\n<p font-size:="" new="" times="">BAS1S is an architectural design firm in our 25th year specializing in creating engaging and functional buildings with simple solutions. As a company\, we aspire to create buildings that inspire and improve both our built and natural environment.<br />\n<br />\nStay for the Chamber Seasonal Fall-iday Party\, from 5-7pm!</p>\n
LOCATION:
UID:e.3083.10177
SEQUENCE:3
DTSTAMP:20260422T013646Z
URL:https://members.longmontchamber.org/events/details/ribbon-cutting-bas1s-architecture-25-year-anniversary-10177
END:VEVENT

END:VCALENDAR
