BEGIN:VCALENDAR
VERSION:2.0
PRODID:-//ChamberMaster//Event Calendar 2.0//EN
METHOD:PUBLISH
X-PUBLISHED-TTL:P3D
REFRESH-INTERVAL:P3D
CALSCALE:GREGORIAN
BEGIN:VEVENT
DTSTART:20240618T220000Z
DTEND:20240618T230000Z
X-MICROSOFT-CDO-ALLDAYEVENT:FALSE
SUMMARY:Ribbon Cutting | Bath.Cut.Brush.
DESCRIPTION:Join us in celebrating Bath.Cut.Brush.!\n\n\n\nAbout Bath.Cut.Brush. Mobile Pet Grooming\n\nOur groomers would probably rather spend their time with canines and felines than human beings\, and that's ok! No matter which BCB groomer comes to your door\, you know they will treat your pets like family. Sure\, you could take your dog outside and wash them with a hose\, or even bathe them in your bathtub. Absolutely. You can even put them in the car and take them to a groomer. You may even have to take your car to get washed afterward if you are into running errands all day. On the other hand\, we do the multitasking for you\, so you and your pets can stay where you are\, and the results are always clean and tidy!
X-ALT-DESC;FMTTYPE=text/html:Join us in celebrating Bath.Cut.Brush.!<br />\n<br />\n<strong>About Bath.Cut.Brush. Mobile Pet Grooming</strong>\n<div color:="" font-feature-settings:="" font-kerning:="" font-optical-sizing:="" font-variation-settings:="" helvetica="" margin:="" padding:="" segoe="" ui="" vertical-align:="" web="" west="">\n<p>Our groomers would probably rather spend their time with canines and felines than human beings\, and that&rsquo\;s ok! No matter which BCB groomer comes to your door\, you know they will treat your pets like family. Sure\, you could take your dog outside and wash them with a hose\, or even bathe them in your bathtub. Absolutely. You can even put them in the car and take them to a groomer. You may even have to take your car to get washed afterward if you are into running errands all day. On the other hand\, we do the multitasking for you\, so you and your pets can stay where you are\, and the results are always clean and tidy!</p>\n</div>\n
LOCATION:Ribbon Cutting Location: Parking Lot of Spitz Mediterranean
UID:e.3083.10134
SEQUENCE:3
DTSTAMP:20260422T090413Z
URL:https://members.longmontchamber.org/events/details/ribbon-cutting-bath-cut-brush-10134
END:VEVENT

END:VCALENDAR
