BEGIN:VCALENDAR
VERSION:2.0
PRODID:-//ChamberMaster//Event Calendar 2.0//EN
METHOD:PUBLISH
X-PUBLISHED-TTL:P3D
REFRESH-INTERVAL:P3D
CALSCALE:GREGORIAN
BEGIN:VEVENT
DTSTART:20240907T170000Z
DTEND:20240907T180000Z
X-MICROSOFT-CDO-ALLDAYEVENT:FALSE
SUMMARY:Ribbon Cutting | Beard Sorcery - Grand Opening!
DESCRIPTION:Join us in celebrating the Grand Opening of Beard Sorcery!\n\n\n\nAbout Beard Sorcery\n\nJoin us for the Grand Opening of Beard Sorcery's new store in Longmont\, CO! Our mission began with a simple goal: to tackle beard itch and help you grow a legendary beard. We've developed all-natural\, high-quality beard oils\, balms\, and creams that have transformed faces globally. Discover our unique beard products\, where age-old wisdom meets modern innovation. For event details\, visit https://beardsorcery.com/events/longmont-co-retail-grand-opening. Don't miss the opportunity to connect with fellow beard enthusiasts in a day of camaraderie\, complimentary beard trims\, and exciting grand opening festivities. We look forward to welcoming you there!
X-ALT-DESC;FMTTYPE=text/html:Join us in celebrating the Grand Opening of Beard Sorcery!<br />\n<br />\n<strong>About Beard Sorcery</strong>\n<div color:="" font-feature-settings:="" font-kerning:="" font-optical-sizing:="" font-variation-settings:="" helvetica="" margin:="" padding:="" segoe="" ui="" vertical-align:="" web="" west="">\n<p>Join us for the Grand Opening of Beard Sorcery&#39\;s new store in Longmont\, CO! Our mission began with a simple goal: to tackle beard itch and help you grow a legendary beard. We&rsquo\;ve developed all-natural\, high-quality beard oils\, balms\, and creams that have transformed faces globally. Discover our unique beard products\, where age-old wisdom meets modern innovation. For event details\, visit&nbsp\;<a data-auth="NotApplicable" data-linkindex="0" href="https://beardsorcery.com/events/longmont-co-retail-grand-opening" id="LPlnk244733" rel="noopener noreferrer" target="_blank">https://beardsorcery.com/events/longmont-co-retail-grand-opening</a>. Don&rsquo\;t miss the opportunity to connect with fellow beard enthusiasts in a day of camaraderie\, complimentary beard trims\, and exciting grand opening festivities. We look forward to welcoming you there!</p>\n</div>\n
LOCATION:
UID:e.3083.10183
SEQUENCE:3
DTSTAMP:20260422T013623Z
URL:https://members.longmontchamber.org/events/details/ribbon-cutting-beard-sorcery-grand-opening-10183
END:VEVENT

END:VCALENDAR
