BEGIN:VCALENDAR
VERSION:2.0
PRODID:-//ChamberMaster//Event Calendar 2.0//EN
METHOD:PUBLISH
X-PUBLISHED-TTL:P3D
REFRESH-INTERVAL:P3D
CALSCALE:GREGORIAN
BEGIN:VEVENT
DTSTART:20240625T220000Z
DTEND:20240625T230000Z
X-MICROSOFT-CDO-ALLDAYEVENT:FALSE
SUMMARY:Ribbon Cutting | Bearded Brewer Artisan Ales
DESCRIPTION:Join us in celebrating Bearded Brewer!\n\n\n\nAbout Bearded Brewer\n\n If you haven't been to the newest brewery in town\, you are missing out!  From their wide array of award-winning brews\, to the ambiance of the brewery itself\, with plenty of indoor and outdoor seating - you will not be disappointed!  Add in a rotating\, ever-growing list of food trucks and you have yourself the perfect combination!\n\n\n\nBearded Brewer Longmont is one of two locations for this above-level brewery!  You will also find them in Omaha\, NE!
X-ALT-DESC;FMTTYPE=text/html:Join us in celebrating Bearded Brewer!<br />\n<br />\n<strong>About Bearded Brewer</strong>\n<div color:="" font-feature-settings:="" font-kerning:="" font-optical-sizing:="" font-variation-settings:="" helvetica="" margin:="" padding:="" segoe="" ui="" vertical-align:="" web="" west="">\n<p>&nbsp\;If you haven&#39\;t been to the newest brewery in town\, you are missing out!&nbsp\; From their wide array of award-winning brews\, to the ambiance of the brewery itself\, with plenty of indoor and outdoor seating - you will not be disappointed!&nbsp\; Add in a rotating\, ever-growing list of food trucks and you have yourself the perfect combination!<br />\n<br />\nBearded Brewer Longmont is one of two locations for this above-level brewery!&nbsp\; You will also find them in Omaha\, NE!&nbsp\;&nbsp\;</p>\n</div>\n
LOCATION:
UID:e.3083.10094
SEQUENCE:3
DTSTAMP:20260422T075114Z
URL:https://members.longmontchamber.org/events/details/ribbon-cutting-bearded-brewer-artisan-ales-10094
END:VEVENT

END:VCALENDAR
