BEGIN:VCALENDAR
VERSION:2.0
PRODID:-//ChamberMaster//Event Calendar 2.0//EN
METHOD:PUBLISH
X-PUBLISHED-TTL:P3D
REFRESH-INTERVAL:P3D
CALSCALE:GREGORIAN
BEGIN:VEVENT
DTSTART:20240730T220000Z
DTEND:20240730T230000Z
X-MICROSOFT-CDO-ALLDAYEVENT:FALSE
SUMMARY:Ribbon Cutting |Bella La Crema
DESCRIPTION:Join us in celebrating Bella La Crema!\n\n\n\nBella La Crema - making butter beautiful!\n\nINTUITIVELY SPICED\, HAND PACKED\, SMALL BATCH\n\n\nWe churn butter with organic cream from grass-fed cows\, and culture it by reintroducing the good bacteria that was taken out during pasteurization. We also add a bit of magic with our stone-ground spices (never using artificial flavors) bringing you a special and unique experience with this age-old delight.\n\n\n\nThis will be a very "tasty"  Ribbon Cutting celebration!  Don't miss out!
X-ALT-DESC;FMTTYPE=text/html:Join us in celebrating Bella La Crema!<br />\n<br />\n<strong>Bella La Crema - making butter beautiful!</strong>\n<div color:="" font-feature-settings:="" font-kerning:="" font-optical-sizing:="" font-variation-settings:="" helvetica="" margin:="" padding:="" segoe="" ui="" vertical-align:="" web="" west="">\n<h4 aria-level="4" data-aid="ABOUT_HEADLINE_RENDERED0" data-typography="HeadingDelta" data-ux="ContentHeading" role="heading">INTUITIVELY SPICED\, HAND PACKED\, SMALL BATCH</h4>\n\n<div alignment="center" data-aid="ABOUT_DESCRIPTION_RENDERED0" data-typography="BodyAlpha" data-ux="ContentText">\n<p>We churn butter with organic cream from grass-fed cows\, and culture it by reintroducing the good bacteria that was taken out during pasteurization. We also add a bit of magic with our stone-ground spices (never using artificial flavors) bringing you a special and unique experience with this age-old delight.<br />\n<br />\nThis will be a very &quot\;tasty&quot\;&nbsp\; Ribbon Cutting celebration!&nbsp\; Don&#39\;t miss out!</p>\n</div>\n</div>\n
LOCATION:
UID:e.3083.10167
SEQUENCE:3
DTSTAMP:20260422T044425Z
URL:https://members.longmontchamber.org/events/details/ribbon-cutting-bella-la-crema-10167
END:VEVENT

END:VCALENDAR
