BEGIN:VCALENDAR
VERSION:2.0
PRODID:-//ChamberMaster//Event Calendar 2.0//EN
METHOD:PUBLISH
X-PUBLISHED-TTL:P3D
REFRESH-INTERVAL:P3D
CALSCALE:GREGORIAN
BEGIN:VEVENT
DTSTART:20250531T150000Z
DTEND:20250531T160000Z
X-MICROSOFT-CDO-ALLDAYEVENT:FALSE
SUMMARY:Ribbon Cutting | Best Day Ever Coffee and Crepes
DESCRIPTION:Join us in celebrating Best Day Ever Coffee and Crepes!\n\n\n\nAbout Best Day Ever Coffee and Crepes\n\nWe believe that every day has the potential to be the best day ever especially when it's filled with great coffee\, delicious crepes\, and a welcoming community.  But what truly makes our caf  special is the people behind the counter.\n\n\n\nWe partner with other unique businesses that share a similar mission to provide opportunities to adults with disabilities.\n\n\n\n	Inclusive & Supportive Workplace: We provide a safe\, encouraging space where individuals of all abilities can thrive.\n\n\n\n\n\n	Skill Development & Growth: Every team member receives hands-on training to build confidence and independence.\n\n\n\n\n\n	Community-Focused Mission: We bring people together through kindness\, acceptance\, and\, of course\, amazing coffee and crepes!
X-ALT-DESC;FMTTYPE=text/html:Join us in celebrating Best Day Ever Coffee and Crepes!<br />\n<br />\n<strong>About Best Day Ever Coffee and Crepes</strong>\n<div color:="" font-feature-settings:="" font-kerning:="" font-optical-sizing:="" font-variation-settings:="" helvetica="" margin:="" padding:="" segoe="" ui="" vertical-align:="" web="" west="">\n<p>We believe that every day has the potential to be the best day ever&mdash\;especially when it&rsquo\;s filled with great coffee\, delicious crepes\, and a welcoming community.&nbsp\; But what truly makes our caf&eacute\; special is the people behind the counter.<br />\n<br />\nWe partner with other unique businesses that share a similar mission to provide opportunities to adults with disabilities.</p>\n\n<div>\n<ul>\n	<li>Inclusive &amp\; Supportive Workplace: We provide a safe\, encouraging space where individuals of all abilities can thrive.</li>\n</ul>\n</div>\n\n<div>\n<ul>\n	<li>Skill Development &amp\; Growth: Every team member receives hands-on training to build confidence and independence.</li>\n</ul>\n</div>\n\n<div>\n<ul>\n	<li>Community-Focused Mission: We bring people together through kindness\, acceptance\, and\, of course\, amazing coffee and crepes!</li>\n</ul>\n</div>\n</div>\n
LOCATION:
UID:e.3083.13455
SEQUENCE:3
DTSTAMP:20260421T130414Z
URL:https://members.longmontchamber.org/events/details/ribbon-cutting-best-day-ever-coffee-and-crepes-13455
END:VEVENT

END:VCALENDAR
