BEGIN:VCALENDAR
VERSION:2.0
PRODID:-//ChamberMaster//Event Calendar 2.0//EN
METHOD:PUBLISH
X-PUBLISHED-TTL:P3D
REFRESH-INTERVAL:P3D
CALSCALE:GREGORIAN
BEGIN:VEVENT
DTSTART:20250128T230000Z
DTEND:20250129T000000Z
X-MICROSOFT-CDO-ALLDAYEVENT:FALSE
SUMMARY:Ribbon Cutting | Bestow
DESCRIPTION:Join us in celebrating Bestow!\n\n\n\nAbout Bestow\n\nNestled in the vibrant heart of downtown Longmont's Main Street\, Bestow was conceived as a central gathering place for the community and neighboring cities\, fostering celebrations\, education\, and creative arts. Whether you're planning a wedding\, party\, conference\, market\, retreat\, or a live music event\, among other possibilities\, we extend a warm invitation to make our space exclusively yours for the day. Our entire concept is rooted in the belief that a space should be adaptable to suit the distinctive requirements of its hosts\, leaving their guests utterly amazed by the meticulous attention to detail invested in creating a personalized experience.
X-ALT-DESC;FMTTYPE=text/html:Join us in celebrating Bestow!<br />\n<br />\n<strong>About Bestow</strong>\n<div color:="" font-feature-settings:="" font-kerning:="" font-optical-sizing:="" font-variation-settings:="" helvetica="" margin:="" padding:="" segoe="" ui="" vertical-align:="" web="" west="">\n<p><span style="color: rgb(71\, 71\, 71)\; font-family: Roboto\, Arial\, sans-serif\; font-size: 14px\;">Nestled in the vibrant heart of downtown Longmont&rsquo\;s Main Street\, Bestow was conceived as a central gathering place for the community and neighboring cities\, fostering celebrations\, education\, and creative arts. Whether you&rsquo\;re planning a wedding\, party\, conference\, market\, retreat\, or a live music event\, among other possibilities\, we extend a warm invitation to make our space exclusively yours for the day. Our entire concept is rooted in the belief that a space should be adaptable to suit the distinctive requirements of its hosts\, leaving their guests utterly amazed by the meticulous attention to detail invested in creating a personalized experience.</span></p>\n</div>\n
LOCATION:
UID:e.3083.10723
SEQUENCE:3
DTSTAMP:20260421T190033Z
URL:https://members.longmontchamber.org/events/details/ribbon-cutting-bestow-10723
END:VEVENT

END:VCALENDAR
