BEGIN:VCALENDAR
VERSION:2.0
PRODID:-//ChamberMaster//Event Calendar 2.0//EN
METHOD:PUBLISH
X-PUBLISHED-TTL:P3D
REFRESH-INTERVAL:P3D
CALSCALE:GREGORIAN
BEGIN:VEVENT
DTSTART:20231019T220000Z
DTEND:20231019T230000Z
X-MICROSOFT-CDO-ALLDAYEVENT:FALSE
SUMMARY:Ribbon Cutting | Beth's Bath Shoppe
DESCRIPTION:Join us in celebrating Beth's Bath Shoppe inside the Bricks Holiday Pop-Up Market - located on Main Street inside the former La Vita Bella space.\n\n\n\nAbout Beth's Bath Shoppe\n\nHave as much fun getting clean as you do getting dirty! Introducing Downtown Longmont's only Bath Themed shop. Everything from Bath Bombs to shower curtains\, loofahs to lotions\, salts and scrubs. Find your new favorite robe or slippers or create a spa gift basket. Come check out this fun new location for the holidays! We can't wait to see you!
X-ALT-DESC;FMTTYPE=text/html:Join us in celebrating Beth&#39\;s Bath Shoppe inside the Bricks Holiday Pop-Up Market - located on Main Street inside the former La Vita Bella space.<br />\n<br />\n<strong>About Beth&#39\;s Bath Shoppe</strong><br />\nHave as much fun getting clean as you do getting dirty! Introducing Downtown Longmont&#39\;s only Bath Themed shop. Everything from Bath Bombs to shower curtains\, loofahs to lotions\, salts and scrubs. Find your new favorite robe or slippers or create a spa gift basket. Come check out this fun new location for the holidays! We can&#39\;t wait to see you!
LOCATION:471 Main Street Longmont\, CO Look for the Bricks Holiday Pop-Up Market\, in the former La Vita Bella space\, next to Quarters Bar & Arcade. You can access from Main Street or through the back from the alley behind. Parking can be found on Main\, on 5th between Main & Coffman and in the Coffman Street parking lots behind the building.
UID:e.3083.9965
SEQUENCE:3
DTSTAMP:20260422T213109Z
URL:https://members.longmontchamber.org/events/details/ribbon-cutting-beth-s-bath-shoppe-9965
END:VEVENT

END:VCALENDAR
