BEGIN:VCALENDAR
VERSION:2.0
PRODID:-//ChamberMaster//Event Calendar 2.0//EN
METHOD:PUBLISH
X-PUBLISHED-TTL:P3D
REFRESH-INTERVAL:P3D
CALSCALE:GREGORIAN
BEGIN:VEVENT
DTSTART:20250304T230000Z
DTEND:20250305T000000Z
X-MICROSOFT-CDO-ALLDAYEVENT:FALSE
SUMMARY:Ribbon Cutting | BG Automotive
DESCRIPTION:Join us in celebrating BG Automotive!\n\n\n\nAbout BG Automotive\n\n\n\nAt BG Automotive we do more than just fix cars. We change how people see auto repair through honesty\, quality service\, and expert care. With over 20 years of experience in Northern Colorado\, we're proud to be a top-rated auto repair shop and trusted mechanic helping drivers stay safe on the road.\n\n \n\nOur philosophy is simple: We treat every car like our own family drives it. That means honest inspections\, expert repairs\, and never selling services you don't need.\n\n \n\nLooking for a trusted mechanic for an oil change\, brake repair\, transmission service\, or engine work? Our ASE-certified technicians are here to help.\n\n \n\nWe're committed to creating a friendly\, professional shop where employees and customers feel valued.
X-ALT-DESC;FMTTYPE=text/html:Join us in celebrating BG Automotive!<br />\n<br />\n<strong>About BG Automotive</strong>\n<div color:="" font-feature-settings:="" font-kerning:="" font-optical-sizing:="" font-variation-settings:="" helvetica="" margin:="" padding:="" segoe="" ui="" vertical-align:="" web="" west="">\n<div><br />\nAt BG Automotive we do more than just fix cars. We change how people see auto repair through honesty\, quality service\, and expert care. With over 20 years of experience in Northern Colorado\, we&rsquo\;re proud to be a top-rated auto repair shop and trusted mechanic helping drivers stay safe on the road.<br />\n&nbsp\;</div>\n\n<div>Our philosophy is simple: We treat every car like our own family drives it. That means honest inspections\, expert repairs\, and never selling services you don&rsquo\;t need.<br />\n&nbsp\;</div>\n\n<div>Looking for a trusted mechanic for an oil change\, brake repair\, transmission service\, or engine work? Our ASE-certified technicians are here to help.<br />\n&nbsp\;</div>\n\n<div>We&rsquo\;re committed to creating a friendly\, professional shop where employees and customers feel valued.</div>\n</div>\n
LOCATION:
UID:e.3083.10771
SEQUENCE:3
DTSTAMP:20260421T160315Z
URL:https://members.longmontchamber.org/events/details/ribbon-cutting-bg-automotive-10771
END:VEVENT

END:VCALENDAR
