BEGIN:VCALENDAR
VERSION:2.0
PRODID:-//ChamberMaster//Event Calendar 2.0//EN
METHOD:PUBLISH
X-PUBLISHED-TTL:P3D
REFRESH-INTERVAL:P3D
CALSCALE:GREGORIAN
BEGIN:VEVENT
DTSTART:20230901T230000Z
DTEND:20230902T000000Z
X-MICROSOFT-CDO-ALLDAYEVENT:FALSE
SUMMARY:Ribbon Cutting | Blue Skies Massage & Wellness
DESCRIPTION:Join us in congratulating our Legacy member\, Blue Skies Massage & Wellness\, who is celebrating their 10th year in business and chamber membership!\n\n\n\nAbout Blue Skies Massage & Wellness\n\n\n\nBlue Skies Massage & Wellness Spa has raised the bar in Longmont for professional massage and quality of service\; we take special care to listen to your needs. Our therapists are experienced in many forms of massage modalities and consistently stay up to date on the leading advancements in the field.
X-ALT-DESC;FMTTYPE=text/html:Join us in congratulating our Legacy member\, Blue Skies Massage &amp\; Wellness\, who is celebrating their 10th year in business and chamber membership!<br />\n<br />\n<strong>About Blue Skies Massage &amp\; Wellness</strong><br />\n<br />\nBlue Skies Massage &amp\; Wellness Spa has raised the bar in Longmont for professional massage and quality of service\; we take special care to listen to your needs. Our therapists are experienced in many forms of massage modalities and consistently stay up to date on the leading advancements in the field.
LOCATION:
UID:e.3083.9944
SEQUENCE:3
DTSTAMP:20260422T215316Z
URL:https://members.longmontchamber.org/events/details/ribbon-cutting-blue-skies-massage-wellness-9944
END:VEVENT

END:VCALENDAR
