BEGIN:VCALENDAR
VERSION:2.0
PRODID:-//ChamberMaster//Event Calendar 2.0//EN
METHOD:PUBLISH
X-PUBLISHED-TTL:P3D
REFRESH-INTERVAL:P3D
CALSCALE:GREGORIAN
BEGIN:VEVENT
DTSTART:20220510T220000Z
DTEND:20220510T230000Z
X-MICROSOFT-CDO-ALLDAYEVENT:FALSE
SUMMARY:Ribbon Cutting | Blue Wing Chiropractic
DESCRIPTION:Join us in welcoming new member Blue Wing Chiropractic to the Longmont Chamber community!\n\n\n\nAbout Blue Wing Chiropractic \n\nDr. Jonathan Maczko and Dr. Kendra Maczko met when they were students at Palmer Chiropractic College in Iowa. Their first interaction was an argument over whose dog was cuter\, concluding that both dogs were adorable\, they married a few years later.\n\n\n\nAfter graduating in 2018\, they practiced in Nebraska for a few years. Dr. Kendra has family in the Longmont area\, so eventually\, they decided to make their way west\, toward the mountains and the outdoors that they love. They opened Blue Wing Chiropractic\, LLC in 2021 to share their vision of health and wellness with as many families as possible.
X-ALT-DESC;FMTTYPE=text/html:Join us in welcoming new member Blue Wing Chiropractic to the Longmont Chamber community!<br />\n<br />\n<strong>About Blue Wing Chiropractic&nbsp\;</strong><br />\nDr. Jonathan Maczko and Dr. Kendra Maczko met when they were students at Palmer Chiropractic College in Iowa. Their first interaction was an argument over whose dog was cuter\, concluding that both dogs were adorable\, they married a few years later.<br />\n<br />\nAfter graduating in 2018\, they practiced in Nebraska for a few years. Dr. Kendra has family in the Longmont area\, so eventually\, they decided to make their way west\, toward the mountains and the outdoors that they love. They opened Blue Wing Chiropractic\, LLC in 2021 to share their vision of health and wellness with as many families as possible.
LOCATION:2100 Main Street\, Suite 202 Longmont\, CO
UID:e.3083.8686
SEQUENCE:3
DTSTAMP:20260423T223551Z
URL:https://members.longmontchamber.org/events/details/ribbon-cutting-blue-wing-chiropractic-8686
END:VEVENT

END:VCALENDAR
