BEGIN:VCALENDAR
VERSION:2.0
PRODID:-//ChamberMaster//Event Calendar 2.0//EN
METHOD:PUBLISH
X-PUBLISHED-TTL:P3D
REFRESH-INTERVAL:P3D
CALSCALE:GREGORIAN
BEGIN:VEVENT
DTSTART:20240507T220000Z
DTEND:20240507T230000Z
X-MICROSOFT-CDO-ALLDAYEVENT:FALSE
SUMMARY:Ribbon Cutting | Brackin Insurance
DESCRIPTION:Join us in celebrating Ryan Brackin with Brackin Insurance!\n\n\n\nAbout Brackin Insurance \n\n\n\nAbout Farmers\n\nIn 1928\, two men shared a dream of providing a quality insurance product at a reasonable price. In the decades that followed we've grown and adapted to meet the changing needs of Americans. But one constant has remained: We have an unwavering commitment to uphold our founding ideals to provide industry-leading products and first-rate services to the customers we're privileged to serve.\n\n\n\nDifferent Eras\, Same Exceptional Service\n\nFarmers not only prides itself on helping you plan wisely for the unexpected\, but also on helping restore order when it occurs\, so you can keep moving along the road of your life's plans.\n\nToday\, our companies make up one of the country's largest insurers of vehicles\, homes and small businesses and provide a wide range of other insurance and financial services products.
X-ALT-DESC;FMTTYPE=text/html:Join us in celebrating Ryan Brackin with Brackin Insurance!<br />\n<br />\n<strong>About Brackin Insurance&nbsp\;</strong>\n<div color:="" font-feature-settings:="" font-kerning:="" font-optical-sizing:="" font-variation-settings:="" helvetica="" margin:="" padding:="" segoe="" ui="" vertical-align:="" web="" west="">\n<h2 style="box-sizing: border-box\; margin-top: 0px\; margin-bottom: 0px\; font-family: &quot\;Open Sans&quot\;\, sans-serif\; line-height: 1\; font-size: 1rem\; color: rgb(0\, 0\, 0)\;"><br style="box-sizing: border-box\;" />\n<span class="h3" style="box-sizing: border-box\; margin-bottom: 0.5rem\; font-weight: 700\; line-height: 2rem\; font-size: 1.75rem\; display: inline-block\; letter-spacing: -0.5px\;"><span class="font-blue" style="box-sizing: border-box\; color: rgb(0\, 48\, 135)\;">About Farmers</span></span></h2>\n\n<p style="box-sizing: border-box\; margin-top: 0px\; margin-bottom: 1rem\; line-height: 1.5rem\; font-size: 14px\; color: rgb(0\, 0\, 0)\; font-family: &quot\;Open Sans&quot\;\, sans-serif\;">In 1928\, two men shared a dream of providing a quality insurance product at a reasonable price. In the decades that followed we&rsquo\;ve grown and adapted to meet the changing needs of Americans. But one constant has remained: We have an unwavering commitment to uphold our founding ideals to provide industry-leading products and first-rate services to the customers we&rsquo\;re privileged to serve.</p>\n\n<h3 style="box-sizing: border-box\; margin-top: 0px\; margin-bottom: 0px\; font-family: &quot\;Open Sans&quot\;\, sans-serif\; line-height: 1\; font-size: 1rem\; color: rgb(0\, 0\, 0)\;"><br style="box-sizing: border-box\;" />\n<span class="h4-alt1" style="box-sizing: border-box\; display: inline-block\; letter-spacing: -0.5px\; margin-bottom: 0.5rem\; font-weight: 700\; font-size: 1.25rem\; line-height: 1.5rem\;"><span class="font-blue" style="box-sizing: border-box\; color: rgb(0\, 48\, 135)\;">Different Eras\, Same Exceptional Service</span></span></h3>\n\n<p style="box-sizing: border-box\; margin-top: 0px\; margin-bottom: 1rem\; line-height: 1.5rem\; font-size: 14px\; color: rgb(0\, 0\, 0)\; font-family: &quot\;Open Sans&quot\;\, sans-serif\;">Farmers not only prides itself on helping you plan wisely for the unexpected\, but also on helping restore order when it occurs\, so you can keep moving along the road of your life&rsquo\;s plans.</p>\n\n<p style="box-sizing: border-box\; margin-top: 0px\; margin-bottom: 1rem\; line-height: 1.5rem\; font-size: 14px\; color: rgb(0\, 0\, 0)\; font-family: &quot\;Open Sans&quot\;\, sans-serif\;">Today\, our companies make up one of the country&#39\;s largest insurers of vehicles\, homes and small businesses and provide a wide range of other insurance and financial services products.</p>\n</div>\n
LOCATION:
UID:e.3083.10090
SEQUENCE:3
DTSTAMP:20260422T090705Z
URL:https://members.longmontchamber.org/events/details/ribbon-cutting-brackin-insurance-10090
END:VEVENT

END:VCALENDAR
