BEGIN:VCALENDAR
VERSION:2.0
PRODID:-//ChamberMaster//Event Calendar 2.0//EN
METHOD:PUBLISH
X-PUBLISHED-TTL:P3D
REFRESH-INTERVAL:P3D
CALSCALE:GREGORIAN
BEGIN:VEVENT
DTSTART:20230831T220000Z
DTEND:20230831T230000Z
X-MICROSOFT-CDO-ALLDAYEVENT:FALSE
SUMMARY:Ribbon Cutting | Brain Training Lounge
DESCRIPTION:Join us in welcoming new member Brain Training Lounge to the Longmont Chamber community!\n\n\n\nAbout Brain Training Lounge\n\n\n\nBTL exclusively offers NeurOptimal  Dynamical Neurofeedback  for stress management\, mental fitness & well-being! Train your brain to promote its peak performance! A more fit & flexible central nervous system can improve your capability\, capacity\, productivity & performance in all areas of your life. NeurOptimal  neurofeedback is fundamentally unique in its brain training method. It provides your brain with the information it needs to self-correct and re-organize to more efficient & effective operation. This innovative tool is used by professionals\, athletes\, students and families around the world. Every brain can benefit from NeurOptimal  brain training!\n\n\n\nSince 2019\, BTL has worked with stressed students\, small business owners\, teenagers\, educators\, adults\, concussed individuals\, seniors\, Long COVID sufferers\, Veterans\, HSPs\, and a young gentleman recovering from a life-threatening traumatic brain injury (TBI). Our clients have experienced positive shifts with brain fog\, sleep\, mental & physical energy levels\, focus\, concentration\, memory & recall\, effortless productivity\, mood regulation\, performance under pressure\, managing overwhelm & panic\, muscle tension\, anxious tendencies\, and more. Empower your well-being with BTL!
X-ALT-DESC;FMTTYPE=text/html:<br />\nJoin us in welcoming new member Brain Training Lounge to the Longmont Chamber community!<br />\n<br />\n<strong>About Brain Training Lounge</strong><br />\n<br />\nBTL exclusively offers NeurOptimal&reg\; Dynamical Neurofeedback&reg\; for stress management\, mental fitness &amp\; well-being! Train your brain to promote its peak performance! A more fit &amp\; flexible central nervous system can improve your capability\, capacity\, productivity &amp\; performance in all areas of your life. NeurOptimal&reg\; neurofeedback is fundamentally unique in its brain training method. It provides your brain with the information it needs to self-correct and re-organize to more efficient &amp\; effective operation. This innovative tool is used by professionals\, athletes\, students and families around the world. Every brain can benefit from NeurOptimal&reg\; brain training!<br />\n<br />\nSince 2019\, BTL has worked with stressed students\, small business owners\, teenagers\, educators\, adults\, concussed individuals\, seniors\, Long COVID sufferers\, Veterans\, HSPs\, and a young gentleman recovering from a life-threatening traumatic brain injury (TBI). Our clients have experienced positive shifts with brain fog\, sleep\, mental &amp\; physical energy levels\, focus\, concentration\, memory &amp\; recall\, effortless productivity\, mood regulation\, performance under pressure\, managing overwhelm &amp\; panic\, muscle tension\, anxious tendencies\, and more. Empower your well-being with BTL!
LOCATION:Brain Training Lounge East Entrance
UID:e.3083.9937
SEQUENCE:3
DTSTAMP:20260422T231712Z
URL:https://members.longmontchamber.org/events/details/ribbon-cutting-brain-training-lounge-9937
END:VEVENT

END:VCALENDAR
