BEGIN:VCALENDAR
VERSION:2.0
PRODID:-//ChamberMaster//Event Calendar 2.0//EN
METHOD:PUBLISH
X-PUBLISHED-TTL:P3D
REFRESH-INTERVAL:P3D
CALSCALE:GREGORIAN
BEGIN:VEVENT
DTSTART:20210928T220000Z
DTEND:20210928T230000Z
X-MICROSOFT-CDO-ALLDAYEVENT:FALSE
SUMMARY:Ribbon Cutting | Bricks Retail
DESCRIPTION:Join us as we officially cut the celebratory ribbon an Bricks Retail!\n\n\n\nAbout Bricks Retail:\n\nBricks Retail is a curated marketplace for locally (All Colorado) made products with a brick and mortar location in the heart of downtown Longmont\, CO. Making local gift giving easier!\n\n\n\nPer the Boulder County Health Order issued September 3rd\, we are requiring that all individuals wear a mask at this event.
X-ALT-DESC;FMTTYPE=text/html:Join us as we officially cut the celebratory ribbon an Bricks Retail!<br />\n<br />\n<strong>About Bricks Retail:</strong><br />\nBricks Retail is a curated marketplace for locally (All Colorado) made products with a brick and mortar location in the heart of downtown Longmont\, CO. Making local gift giving easier!<br />\n<br />\n<strong>Per the Boulder County Health Order issued September 3rd\, we are requiring that all individuals wear a mask at this event.</strong><br />\n&nbsp\;
LOCATION:512 4th Ave #103 Longmont\, CO 80501
UID:e.3083.8486
SEQUENCE:3
DTSTAMP:20260424T123454Z
URL:https://members.longmontchamber.org/events/details/ribbon-cutting-bricks-retail-8486
END:VEVENT

END:VCALENDAR
