BEGIN:VCALENDAR
VERSION:2.0
PRODID:-//ChamberMaster//Event Calendar 2.0//EN
METHOD:PUBLISH
X-PUBLISHED-TTL:P3D
REFRESH-INTERVAL:P3D
CALSCALE:GREGORIAN
BEGIN:VEVENT
DTSTART:20220111T230000Z
DTEND:20220112T000000Z
X-MICROSOFT-CDO-ALLDAYEVENT:FALSE
SUMMARY:Ribbon Cutting | Bulldog Roofing
DESCRIPTION:Join us in welcoming Bulldog Roofing to Longmont! Wanting to celebrate  \n\nwith fellow businesses\, they are hosting their Ribbon Cutting at the Pumphouse Brewery on Main Street. \n\n\n\nAbout Bulldog Roofing\n\nBulldog Roofing is a commercial and residential roofing contractor located in Longmont. We specialize in installing new roofing systems as well as repairing existing roofs. Storm damage is a regular occurrence on the front range so\, we are equipped to help home and business owners through the insurance claim process and to ensure their property is brought back to pre-storm condition. Bulldog Roofing's crews have experience installing all types of roofing systems including: Asphalt shingles\, ceramic tile\, synthetic tile\, standing seam and exposed fastener metal\, EPDM\, and TPO. Inspections are always free so\, please don't hesitate if you have concerns regarding the integrity of your roof!\n\n\n\nPer the Boulder County Health Order issued September 3rd\, we are requiring that all individuals wear a mask at this event.
X-ALT-DESC;FMTTYPE=text/html:Join us in welcoming Bulldog Roofing to Longmont! Wanting to celebrate&nbsp\;&nbsp\;<br />\nwith fellow businesses\, they are hosting their Ribbon Cutting at the Pumphouse Brewery on Main Street.&nbsp\;<br />\n<br />\n<strong>About Bulldog Roofing</strong><br />\nBulldog Roofing is a commercial and residential roofing contractor located in Longmont. We specialize in installing new roofing systems as well as repairing existing roofs. Storm damage is a regular occurrence on the front range so\, we are equipped to help home and business owners through the insurance claim process and to ensure their property is brought back to pre-storm condition. Bulldog Roofing&#39\;s crews have experience installing all types of roofing systems including: Asphalt shingles\, ceramic tile\, synthetic tile\, standing seam and exposed fastener metal\, EPDM\, and TPO. Inspections are always free so\, please don&#39\;t hesitate if you have concerns regarding the integrity of your roof!<br />\n<br />\nPer the Boulder County Health Order issued September 3rd\, we are requiring that all individuals wear a mask at this event.
LOCATION:Pumphouse Brewery 540 Main St Longmont\, CO 80501
UID:e.3083.8645
SEQUENCE:3
DTSTAMP:20260424T061007Z
URL:https://members.longmontchamber.org/events/details/ribbon-cutting-bulldog-roofing-8645
END:VEVENT

END:VCALENDAR
