BEGIN:VCALENDAR
VERSION:2.0
PRODID:-//ChamberMaster//Event Calendar 2.0//EN
METHOD:PUBLISH
X-PUBLISHED-TTL:P3D
REFRESH-INTERVAL:P3D
CALSCALE:GREGORIAN
BEGIN:VEVENT
DTSTART:20231116T230000Z
DTEND:20231117T000000Z
X-MICROSOFT-CDO-ALLDAYEVENT:FALSE
SUMMARY:Ribbon Cutting | Bungalow Interiors
DESCRIPTION:Join us in welcoming Bungalow Interiors!\n\n\n\nAbout Bungalow Interiors\n\nAt Bungalow Interiors\, we are not just selling products\; we are sharing a dream.\n\n\n\nWe are passionate about creating a world where style and social responsibility go hand in hand. Our suppliers share our values and are committed to fair labor practices and ethical manufacturing.\n\n\n\nMeet Meg Hardy\, the creative force behind Bungalow Interiors. In pursuit of her lifelong dream to create a haven for fair trade home furnishings and gifts\, Meg brought her vison to life when she opened Bungalow Interiors. Her passion for sustainable living combined with her design acumen\, is the foundation upon which Bungalow Interiors Stands.
X-ALT-DESC;FMTTYPE=text/html:Join us in welcoming Bungalow Interiors!<br />\n<br />\n<strong>About Bungalow Interiors</strong>\n<div color:="" font-feature-settings:="" font-kerning:="" font-optical-sizing:="" font-variation-settings:="" helvetica="" margin:="" padding:="" segoe="" ui="" vertical-align:="" web="" west="">\n<p>At Bungalow Interiors\, we are not just selling products\; we are sharing a dream.<br />\n<br />\nWe are passionate about creating a world where style and social responsibility go hand in hand. Our suppliers share our values and are committed to fair labor practices and ethical manufacturing.<br />\n<br />\nMeet Meg Hardy\, the creative force behind Bungalow Interiors. In pursuit of her lifelong dream to create a haven for fair trade home furnishings and gifts\, Meg brought her vison to life when she opened Bungalow Interiors. Her passion for sustainable living combined with her design acumen\, is the foundation upon which Bungalow Interiors Stands.</p>\n</div>\n
LOCATION:Bungalow Interiors 324 Main Street Longmont Colorado
UID:e.3083.9978
SEQUENCE:3
DTSTAMP:20260422T182956Z
URL:https://members.longmontchamber.org/events/details/ribbon-cutting-bungalow-interiors-9978
END:VEVENT

END:VCALENDAR
