BEGIN:VCALENDAR
VERSION:2.0
PRODID:-//ChamberMaster//Event Calendar 2.0//EN
METHOD:PUBLISH
X-PUBLISHED-TTL:P3D
REFRESH-INTERVAL:P3D
CALSCALE:GREGORIAN
BEGIN:VEVENT
DTSTART:20250701T220000Z
DTEND:20250701T230000Z
X-MICROSOFT-CDO-ALLDAYEVENT:FALSE
SUMMARY:Ribbon Cutting | Buzz Lagree Grand Opening
DESCRIPTION:Join us in celebrating Buzz Lagree!\n\n\n\nAbout Buzz Lagree\n\nBuzz Lagree is proud to teach effective 50 minute full-body Lagree workout classes that are low-impact and high-intensity.  The classes are designed to build strength and endurance\, challenging the muscles to the point of fatigue without stressing the joints.  Complete with an incredibly supportive\, warm\, and welcoming community\, together the Buzz Lagree community bonds over feeling strong\, empowered\, centered and supported after each class.  Every class targets core\, obliques\, legs\, and arms\, and with new classes and playlists each day\, the workout stays fresh and fun!
X-ALT-DESC;FMTTYPE=text/html:Join us in celebrating Buzz Lagree!<br />\n<br />\n<strong>About Buzz Lagree</strong>\n<div color:="" font-feature-settings:="" font-kerning:="" font-optical-sizing:="" font-variation-settings:="" helvetica="" margin:="" padding:="" segoe="" ui="" vertical-align:="" web="" west="">\n<p><span data-olk-copy-source="MessageBody">Buzz Lagree is proud to teach effective 50 minute full-body Lagree workout classes that are low-impact and high-intensity.&nbsp\; The classes are designed to build strength and endurance\, challenging the muscles to the point of fatigue without stressing the joints.&nbsp\; Complete with an incredibly supportive\, warm\, and welcoming community\, together the Buzz Lagree community bonds over feeling strong\, empowered\, centered and supported after each class.&nbsp\; Every class targets core\, obliques\, legs\, and arms\, and with new classes and playlists each day\, the workout stays fresh and fun!</span></p>\n</div>\n
LOCATION:
UID:e.3083.13547
SEQUENCE:3
DTSTAMP:20260421T111330Z
URL:https://members.longmontchamber.org/events/details/ribbon-cutting-buzz-lagree-grand-opening-13547
END:VEVENT

END:VCALENDAR
