BEGIN:VCALENDAR
VERSION:2.0
PRODID:-//ChamberMaster//Event Calendar 2.0//EN
METHOD:PUBLISH
X-PUBLISHED-TTL:P3D
REFRESH-INTERVAL:P3D
CALSCALE:GREGORIAN
BEGIN:VEVENT
DTSTART:20250624T220000Z
DTEND:20250624T230000Z
X-MICROSOFT-CDO-ALLDAYEVENT:FALSE
SUMMARY:Ribbon Cutting | Canine Athletics Training Center
DESCRIPTION:Join us in celebrating Canine Athletics Training Center!\n\n\n\nAbout Canine Athletics Training Center\n\nCanine Athletics Training Center is a dog sport and training facility that offers a variety of classes to help Colorado dog owners who want to be more active with their dogs. Classes include agility training\, basic obedience classes\, puppy\, rally\, scent work\, and more!
X-ALT-DESC;FMTTYPE=text/html:Join us in celebrating Canine Athletics Training Center!<br />\n<br />\n<strong>About Canine Athletics Training Center</strong>\n<div color:="" font-feature-settings:="" font-kerning:="" font-optical-sizing:="" font-variation-settings:="" helvetica="" margin:="" padding:="" segoe="" ui="" vertical-align:="" web="" west="">\n<p><span style="font-size:16px\;">Canine Athletics Training Center is a dog sport and training facility that offers a variety of classes to help Colorado dog owners who want to be more active with their dogs. Classes include agility training\, basic obedience classes\, puppy\, rally\, scent work\, and more!</span></p>\n</div>\n
LOCATION:
UID:e.3083.13523
SEQUENCE:3
DTSTAMP:20260421T111317Z
URL:https://members.longmontchamber.org/events/details/ribbon-cutting-canine-athletics-training-center-13523
END:VEVENT

END:VCALENDAR
