BEGIN:VCALENDAR
VERSION:2.0
PRODID:-//ChamberMaster//Event Calendar 2.0//EN
METHOD:PUBLISH
X-PUBLISHED-TTL:P3D
REFRESH-INTERVAL:P3D
CALSCALE:GREGORIAN
BEGIN:VEVENT
DTSTART:20240517T220000Z
DTEND:20240517T233000Z
X-MICROSOFT-CDO-ALLDAYEVENT:FALSE
SUMMARY:Ribbon Cutting | Casa Lou
DESCRIPTION:Join us in celebrating Casa Lou Cardenas!\n\n\n\nAbout Casa Lou\n\nWe're celebrating the completion of Casa Lou Cardenas\, a new mixed-use building at 9th & Main in Longmont.\n\nLongmont developer\, Jennifer Peterson\, passed this run down\, dingy corner of Longmont for years and thought\, "Someone should fix that up." She decided to be that someone.\n\nShe put together a team of architect\, engineers\, and general contractor and got started. Now\, she invites you to join her for the ribbon cutting and grand opening on Friday\, May 17th.\n\nThe building is named after Eloyda "Lou" Cardenas\, a trailblazer for equity and inclusion in Longmont long before those terms were common. The Cardenas Family\, and the project team of Casa Lou will all be there and we hope you will too.
X-ALT-DESC;FMTTYPE=text/html:<strong>Join us in celebrating Casa Lou Cardenas!</strong><br />\n<br />\n<strong>About Casa Lou</strong>\n<div color:="" font-feature-settings:="" font-kerning:="" font-optical-sizing:="" font-variation-settings:="" helvetica="" margin:="" padding:="" segoe="" ui="" vertical-align:="" web="" west="">\n<p>We&#39\;re celebrating the completion of Casa Lou Cardenas\, a new mixed-use building at 9th &amp\; Main in Longmont.</p>\n\n<p>Longmont developer\, Jennifer Peterson\, passed this run down\, dingy corner of Longmont for years and thought\, &quot\;Someone should fix that up.&quot\; She decided to be that someone.</p>\n\n<p>She put together a team of architect\, engineers\, and general contractor and got started. Now\, she invites you to join her for the ribbon cutting and grand opening on Friday\, May 17th.</p>\n\n<p>The building is named after Eloyda &ldquo\;Lou&rdquo\; Cardenas\, a trailblazer for equity and inclusion in Longmont long before those terms were common. The Cardenas Family\, and the project team of Casa Lou will all be there and we hope you will too.</p>\n</div>\n
LOCATION:
UID:e.3083.10062
SEQUENCE:3
DTSTAMP:20260422T103324Z
URL:https://members.longmontchamber.org/events/details/ribbon-cutting-casa-lou-10062
END:VEVENT

END:VCALENDAR
