BEGIN:VCALENDAR
VERSION:2.0
PRODID:-//ChamberMaster//Event Calendar 2.0//EN
METHOD:PUBLISH
X-PUBLISHED-TTL:P3D
REFRESH-INTERVAL:P3D
CALSCALE:GREGORIAN
BEGIN:VEVENT
DTSTART:20210805T220000Z
DTEND:20210805T230000Z
X-MICROSOFT-CDO-ALLDAYEVENT:FALSE
SUMMARY:Ribbon Cutting | Chicken Jack's
DESCRIPTION:Join us as we welcome Chicken Jack's to Longmont!\n\n\n\nAbout Chicken Jack's\n\nChicken Jack's was created with our guests\, our team and our communities in mind. Our mission is "Serve our guests the highest quality food\, serve our team the highest quality work environment\, serve our communities the highest quality of care." With over 50 years of restaurant experience combined our founders are committed to bringing great tasting Asian food to the tables of people in our communities while growing the future leaders of our industry through our Leaders in Operations\, Values and Excellence program. At Chicken Jack's we strive to serve Asian Chicken Done Right and that's what we do best.
X-ALT-DESC;FMTTYPE=text/html:Join us as we welcome Chicken Jack&#39\;s to Longmont!<br />\n<br />\n<strong>About Chicken Jack&#39\;s</strong><br />\nChicken Jack&rsquo\;s was created with our guests\, our team and our communities in mind. Our mission is &ldquo\;Serve our guests the highest quality food\, serve our team the highest quality work environment\, serve our communities the highest quality of care.&rdquo\; With over 50 years of restaurant experience combined our founders are committed to bringing great tasting Asian food to the tables of people in our communities while growing the future leaders of our industry through our Leaders in Operations\, Values and Excellence program. At Chicken Jack&rsquo\;s we strive to serve Asian Chicken Done Right and that&rsquo\;s what we do best.
LOCATION:Chicken Jack's 26 Ken Pratt Blvd Longmont CO 80501
UID:e.3083.8467
SEQUENCE:3
DTSTAMP:20260424T123703Z
URL:https://members.longmontchamber.org/events/details/ribbon-cutting-chicken-jack-s-8467
END:VEVENT

END:VCALENDAR
