BEGIN:VCALENDAR
VERSION:2.0
PRODID:-//ChamberMaster//Event Calendar 2.0//EN
METHOD:PUBLISH
X-PUBLISHED-TTL:P3D
REFRESH-INTERVAL:P3D
CALSCALE:GREGORIAN
BEGIN:VEVENT
DTSTART:20221207T000000Z
DTEND:20221207T010000Z
X-MICROSOFT-CDO-ALLDAYEVENT:FALSE
SUMMARY:Ribbon Cutting | Christian Brothers Automotive
DESCRIPTION:Join us in welcoming new member Christian Brothers Automotive to the Longmont Chamber community!\n\n\n\nAbout Christian Brothers Automotive\n\nAt Christian Brothers Automotive - Longmont\, we are dedicated to reshaping the way you think about car repair and service. We're locally-owned and operated\, which means our skilled technicians can provide you with personalized service you can't get from the dealership. With transparent service recommendations and an industry-leading warranty\, we aim to always go above and beyond what you'd usually expect from an automotive repair shop.
X-ALT-DESC;FMTTYPE=text/html:Join us in welcoming new member Christian Brothers Automotive to the Longmont Chamber community!<br />\n<br />\n<strong>About Christian Brothers Automotive</strong><br />\nAt Christian Brothers Automotive - Longmont\, we are dedicated to reshaping the way you think about car repair and service. We&rsquo\;re locally-owned and operated\, which means our skilled technicians can provide you with personalized service you can&rsquo\;t get from the dealership. With transparent service recommendations and an industry-leading warranty\, we aim to always go above and beyond what you&rsquo\;d usually expect from an automotive repair shop.
LOCATION:110 E. Ken Pratt Blvd Longmont\, CO
UID:e.3083.9247
SEQUENCE:3
DTSTAMP:20260423T113627Z
URL:https://members.longmontchamber.org/events/details/ribbon-cutting-christian-brothers-automotive-9247
END:VEVENT

END:VCALENDAR
