BEGIN:VCALENDAR
VERSION:2.0
PRODID:-//ChamberMaster//Event Calendar 2.0//EN
METHOD:PUBLISH
X-PUBLISHED-TTL:P3D
REFRESH-INTERVAL:P3D
CALSCALE:GREGORIAN
BEGIN:VEVENT
DTSTART:20250227T230000Z
DTEND:20250228T000000Z
X-MICROSOFT-CDO-ALLDAYEVENT:FALSE
SUMMARY:Ribbon Cutting | Christie Osborn Agency - AmFam
DESCRIPTION:Join us in celebrating Christie Osborn Agency LLC | American Family Insurance!\n\n\n\nAbout Christie Osborn Agency LLC\n\n\nWe are a full service agency covering home\, farm\, auto\, life\, business\, motorcycle\, and boat.  Our unique backgrounds\, training and experience have prepared us well to help meet your insurance needs. Additionally\, as residents of your community\, we understand how important it is to be there for you - our trusted friends and neighbors. Together\, we're building strong partnerships that help everyone succeed.
X-ALT-DESC;FMTTYPE=text/html:Join us in celebrating Christie Osborn Agency LLC | American Family Insurance!<br />\n<br />\n<strong>About Christie Osborn Agency LLC</strong>\n\n<div color:="" font-feature-settings:="" font-kerning:="" font-optical-sizing:="" font-variation-settings:="" helvetica="" margin:="" padding:="" segoe="" ui="" vertical-align:="" web="" west="">\n<p><!--StartFragment-->We are a full service agency covering home\, farm\, auto\, life\, business\, motorcycle\, and boat. &nbsp\;Our unique backgrounds\, training and experience have prepared us well to help meet your insurance needs. Additionally\, as residents of your community\, we understand how important it is to be there for you - our trusted friends and neighbors. Together\, we&#39\;re building strong partnerships that help everyone succeed.<!--EndFragment--></p>\n</div>\n
LOCATION:
UID:e.3083.10770
SEQUENCE:3
DTSTAMP:20260421T175240Z
URL:https://members.longmontchamber.org/events/details/ribbon-cutting-christie-osborn-agency-amfam-10770
END:VEVENT

END:VCALENDAR
