BEGIN:VCALENDAR
VERSION:2.0
PRODID:-//ChamberMaster//Event Calendar 2.0//EN
METHOD:PUBLISH
X-PUBLISHED-TTL:P3D
REFRESH-INTERVAL:P3D
CALSCALE:GREGORIAN
BEGIN:VEVENT
DTSTART:20231010T220000Z
DTEND:20231010T230000Z
X-MICROSOFT-CDO-ALLDAYEVENT:FALSE
SUMMARY:Ribbon Cutting | Colorado Aromatics
DESCRIPTION:Join us in celebrating our legacy member\, Colorado Aromatics!\n\n\n\nAbout Colorado Aromatics\nCultivated Skincare is our skincare line made using herbs grown on our Colorado Aromatics farm. This farm to skin brand utilizes the power of herbs and science to create highly effective skin care products for you. These products are formulated to address the needs of the outdoor man and woman\, particularly after sun care.  The Colorado climate\, sun and the outdoor lifestyle can have damaging effects on the skin. After spending time in the sun\, your skin needs help. By using antioxidant rich herbs and other actives\, our line can help minimize dry skin\, hyperpigmentation\, redness & irritation and wrinkles. Your skin barrier function is an important role your skin plays in your overall health and we aim to protect it from damage. Our complete line includes: face care\, body care\, bath/shower products and hand crafted soaps.
X-ALT-DESC;FMTTYPE=text/html:Join us in celebrating our legacy member\, Colorado Aromatics!<br />\n<br />\n<strong>About Colorado Aromatics</strong>\n<div color:="" font-feature-settings:="" font-kerning:="" font-optical-sizing:="" font-variation-settings:="" helvetica="" margin:="" padding:="" segoe="" ui="" vertical-align:="" web="" west="">Cultivated Skincare is our skincare line made using herbs grown on our Colorado Aromatics farm. This farm to skin brand utilizes the power of herbs and science to create highly effective skin care products for you. These products are formulated to address the needs of the outdoor man and woman\, particularly after sun care.&nbsp\; The Colorado climate\, sun and the outdoor lifestyle can have damaging effects on the skin. After spending time in the sun\, your skin needs help. By using antioxidant rich herbs and other actives\, our line can help minimize dry skin\, hyperpigmentation\, redness &amp\; irritation and wrinkles. Your skin barrier function is an important role your skin plays in your overall health and we aim to protect it from damage. Our complete line includes: face care\, body care\, bath/shower products and hand crafted soaps.</div>\n
LOCATION:Colorado Aromatics Retail Store 340 Lashley Street\, Unit 220 Longmont\, CO 80504
UID:e.3083.9957
SEQUENCE:3
DTSTAMP:20260422T215123Z
URL:https://members.longmontchamber.org/events/details/ribbon-cutting-colorado-aromatics-9957
END:VEVENT

END:VCALENDAR
