BEGIN:VCALENDAR
VERSION:2.0
PRODID:-//ChamberMaster//Event Calendar 2.0//EN
METHOD:PUBLISH
X-PUBLISHED-TTL:P3D
REFRESH-INTERVAL:P3D
CALSCALE:GREGORIAN
BEGIN:VEVENT
DTSTART:20250405T173000Z
DTEND:20250405T183000Z
X-MICROSOFT-CDO-ALLDAYEVENT:FALSE
SUMMARY:Ribbon Cutting | Colorado Dumplings
DESCRIPTION:Join us in celebrating Colorado Dumplings!\n\n\n\nAbout Colorado Dumplings\n\n\nAt the heart of what we do is a desire to share the comforting\, familiar (and for some\, new) joy of dumplings with the community we cherish. For us\, these are not just meals they are heartfelt\, nourishing bites that bring people together.\n\nOur mission is simple: to serve delicious\, affordable food while supporting the people and the community around us.\n\nWe believe that food should be both accessible and inspiring\, offering nourishment and bold flavors. We're not just here to feed\; we're here to share meals that feel like home. With every bite\, we aim to provide comfort\, warmth\, and a sense of connection.
X-ALT-DESC;FMTTYPE=text/html:Join us in celebrating Colorado Dumplings!<br />\n<br />\n<strong>About Colorado Dumplings</strong>\n\n<div color:="" font-feature-settings:="" font-kerning:="" font-optical-sizing:="" font-variation-settings:="" helvetica="" margin:="" padding:="" segoe="" ui="" vertical-align:="" web="" west="">\n<p data-olk-copy-source="MessageBody">At the heart of what we do is a desire to share the comforting\, familiar (and for some\, new) joy of dumplings with the community we cherish. For us\, these are not just meals&mdash\;they are heartfelt\, nourishing bites that bring people together.</p>\n\n<p>Our mission is simple: to serve delicious\, affordable food while supporting the people and the community around us.</p>\n\n<p>We believe that food should be both accessible and inspiring\, offering nourishment and bold flavors. We&rsquo\;re not just here to feed\; we&rsquo\;re here to share meals that feel like home. With every bite\, we aim to provide comfort\, warmth\, and a sense of connection.</p>\n</div>\n
LOCATION:Old Town Marketplace
UID:e.3083.12671
SEQUENCE:3
DTSTAMP:20260421T160311Z
URL:https://members.longmontchamber.org/events/details/ribbon-cutting-colorado-dumplings-12671
END:VEVENT

END:VCALENDAR
