BEGIN:VCALENDAR
VERSION:2.0
PRODID:-//ChamberMaster//Event Calendar 2.0//EN
METHOD:PUBLISH
X-PUBLISHED-TTL:P3D
REFRESH-INTERVAL:P3D
CALSCALE:GREGORIAN
BEGIN:VEVENT
DTSTART:20210916T220000Z
DTEND:20210916T230000Z
X-MICROSOFT-CDO-ALLDAYEVENT:FALSE
SUMMARY:Ribbon Cutting | Columbine Roofing
DESCRIPTION:Join us as we celebrate our new member Columbine Roofing at their new location in Downtown Longmont!  Please be aware of the following safety precautions before you arrive:\n\n	Members must register in advance to attend.\n	Per the Boulder County Health Order issued September 3rd\, we are requiring that all individuals wear a mask indoors at this event.\n\nThank you for your support in creating a safe gathering!   \n\n \n\nAbout Columbine Roofing: As your local full-service commercial and residential roofing company with almost two decades of experience under our belt\, our 430+ online 5-star reviews as well as an A+ rating with the BBB prove that we are accomplishing the goal we set out to achieve. That goal is to exceed our customer's expectations on every level\, by requiring excellence. That's what our reputation has been built on.
X-ALT-DESC;FMTTYPE=text/html:Join us as we celebrate our new member Columbine Roofing at their new location in Downtown Longmont!&nbsp\; Please be aware of the following safety precautions before you arrive:\n<ul>\n	<li>Members <strong>must register</strong> in advance to attend.</li>\n	<li><strong>Per the Boulder County Health Order issued September 3rd\, we are requiring that all individuals wear a mask indoors at this event.</strong></li>\n</ul>\nThank you for your support in creating a safe gathering!&nbsp\; &nbsp\;\n\n<div>&nbsp\;</div>\n\n<div>About Columbine Roofing:&nbsp\;As your local full-service commercial and residential roofing company with almost two decades of experience under our belt\, our 430+ online 5-star reviews as well as an A+ rating with the BBB prove that we are accomplishing the goal we set out to achieve. That goal is to exceed our customer&#39\;s expectations on every level\, by requiring excellence. That&#39\;s what our reputation has been built on.&nbsp\;&nbsp\;</div>\n&nbsp\;
LOCATION:328 Coffman St. Longmont\, CO 80501 (formerly Gold Key Travel)
UID:e.3083.8484
SEQUENCE:3
DTSTAMP:20260424T124111Z
URL:https://members.longmontchamber.org/events/details/ribbon-cutting-columbine-roofing-8484
END:VEVENT

END:VCALENDAR
