BEGIN:VCALENDAR
VERSION:2.0
PRODID:-//ChamberMaster//Event Calendar 2.0//EN
METHOD:PUBLISH
X-PUBLISHED-TTL:P3D
REFRESH-INTERVAL:P3D
CALSCALE:GREGORIAN
BEGIN:VEVENT
DTSTART:20250911T220000Z
DTEND:20250911T230000Z
X-MICROSOFT-CDO-ALLDAYEVENT:FALSE
SUMMARY:Ribbon Cutting | Community Connections Project
DESCRIPTION:Join us in celebrating Community Connections Project!\n\n\n\nAbout Community Connections Project\n\n\n\nWe seek to support community\, civic engagement\, and to combat the problem of social isolation- which studies have shown to increase the risk of various physical conditions\, mental health issues\, and mortality rates. Through gardening initiatives and community events\, we promote hands-on learning\, local food production\, and community engagement.\n\n\n\nOur initiatives focus on education and sustainability while addressing mental health\, homelessness\, public transportation\, and human-wildlife coexistence.\n\n\n\nWe serve a diverse range of Longmont residents\, including youth\, older adults\, individuals with disabilities\, families with low-income\, and those facing challenges like mental health struggles\, homelessness\, and social isolation.
X-ALT-DESC;FMTTYPE=text/html:Join us in celebrating Community Connections Project!<br />\n<br />\n<strong>About Community Connections Project</strong><br />\n<br />\nWe seek to support community\, civic engagement\, and to combat the problem of social isolation- which studies have shown to increase the risk of various physical conditions\, mental health issues\, and mortality rates. Through gardening initiatives and community events\, we promote hands-on learning\, local food production\, and community engagement.<br />\n<br />\nOur initiatives focus on education and sustainability while addressing mental health\, homelessness\, public transportation\, and human-wildlife coexistence.<br />\n<br />\nWe serve a diverse range of Longmont residents\, including youth\, older adults\, individuals with disabilities\, families with low-income\, and those facing challenges like mental health struggles\, homelessness\, and social isolation.
LOCATION:
UID:e.3083.14213
SEQUENCE:3
DTSTAMP:20260421T063938Z
URL:https://members.longmontchamber.org/events/details/ribbon-cutting-community-connections-project-14213
END:VEVENT

END:VCALENDAR
